BEGIN:VCALENDAR
VERSION:2.0
PRODID:-//Antioch College - ECPv6.15.17.1//NONSGML v1.0//EN
CALSCALE:GREGORIAN
METHOD:PUBLISH
X-ORIGINAL-URL:https://antiochcollege.edu
X-WR-CALDESC:Events for Antioch College
REFRESH-INTERVAL;VALUE=DURATION:PT1H
X-Robots-Tag:noindex
X-PUBLISHED-TTL:PT1H
BEGIN:VTIMEZONE
TZID:America/New_York
BEGIN:DAYLIGHT
TZOFFSETFROM:-0500
TZOFFSETTO:-0400
TZNAME:EDT
DTSTART:20230312T070000
END:DAYLIGHT
BEGIN:STANDARD
TZOFFSETFROM:-0400
TZOFFSETTO:-0500
TZNAME:EST
DTSTART:20231105T060000
END:STANDARD
BEGIN:DAYLIGHT
TZOFFSETFROM:-0500
TZOFFSETTO:-0400
TZNAME:EDT
DTSTART:20240310T070000
END:DAYLIGHT
BEGIN:STANDARD
TZOFFSETFROM:-0400
TZOFFSETTO:-0500
TZNAME:EST
DTSTART:20241103T060000
END:STANDARD
BEGIN:DAYLIGHT
TZOFFSETFROM:-0500
TZOFFSETTO:-0400
TZNAME:EDT
DTSTART:20250309T070000
END:DAYLIGHT
BEGIN:STANDARD
TZOFFSETFROM:-0400
TZOFFSETTO:-0500
TZNAME:EST
DTSTART:20251102T060000
END:STANDARD
END:VTIMEZONE
BEGIN:VEVENT
DTSTART;VALUE=DATE:20240927
DTEND;VALUE=DATE:20241123
DTSTAMP:20260421T051852
CREATED:20241011T191237Z
LAST-MODIFIED:20241011T191347Z
UID:51069-1727395200-1732319999@antiochcollege.edu
SUMMARY:Upstairs at the Herndon presents: Ella Santos Thinking Out Loud
DESCRIPTION:Upstairs at the Herndon presents: Ella Santos Thinking Out Loud\n\nFriday\, September 27-Friday November 22\, 2024\nGallery Hours Thursday-Saturday 1-5 PM\nHerndon Gallery Antioch College\, Yellow Springs\, Ohio
URL:https://antiochcollege.edu/event/upstairs-at-the-herndon-presents-ella-santos-thinking-out-loud/
LOCATION:Herndon Gallery\, 805 Livermore Street\, Antioch College\, South Hall\, Yellow Springs\, OH\, 45387-1683\, United States
CATEGORIES:Community & Campus Events,Herndon - Current Exhibition,Herndon Gallery,Open to the Public
ATTACH;FMTTYPE=image/png:https://antiochcollege.edu/wp-content/uploads/2024/10/final.png
END:VEVENT
BEGIN:VEVENT
DTSTART;VALUE=DATE:20241005
DTEND;VALUE=DATE:20241130
DTSTAMP:20260421T051852
CREATED:20241011T191632Z
LAST-MODIFIED:20241011T191640Z
UID:51077-1728086400-1732924799@antiochcollege.edu
SUMMARY:Herndon Gallery and FotoFocus Biennial 2024 present: Juan-SI Gonzalez Looking for Cuba Inside
DESCRIPTION:Herndon Gallery and FotoFocus Biennial 2024\npresent\nJuan-SI Gonzalez Looking for Cuba Inside\nOpening Reception and Artist Talk Saturday\, October 5\, 4:00-6:00 PM\nSaturday\, October 5-Friday November 29\, 2024\n\nGallery Hours Thursday-Saturday 1-5 PM\nHerndon Gallery Antioch College\, Yellow Springs\, Ohio
URL:https://antiochcollege.edu/event/herndon-gallery-and-fotofocus-biennial-2024-present-juan-si-gonzalez-looking-for-cuba-inside/
LOCATION:Herndon Gallery\, 805 Livermore Street\, Antioch College\, South Hall\, Yellow Springs\, OH\, 45387-1683\, United States
CATEGORIES:Community & Campus Events,Herndon - Current Exhibition,Herndon Gallery,Open to the Public
ATTACH;FMTTYPE=image/png:https://antiochcollege.edu/wp-content/uploads/2024/10/poster.png
END:VEVENT
BEGIN:VEVENT
DTSTART;TZID=America/New_York:20241019T190000
DTEND;TZID=America/New_York:20241019T210000
DTSTAMP:20260421T051852
CREATED:20240722T164108Z
LAST-MODIFIED:20240809T132244Z
UID:50012-1729364400-1729371600@antiochcollege.edu
SUMMARY:THE LANGUAGE OF DOLLS at the Foundry Theater
DESCRIPTION:THE LANGUAGE OF DOLLS \nOur play is called THE LANGUAGE OF DOLLS. \nWe are three very old friends who met when we were young- as students and alumni of Antioch College. Two of us live now in New York City. One of us lives in Yellow Springs. We are close to one another and far away\, the same and very different.  \nWe are one Black woman and two white. We’ve been asking how our own identities were formed and by whom. \nIn THE LANGUAGE OF DOLLS\, we are three women in a cabin for a weekend away together\, having conversations about our past and present\, but also a possible future. Sometimes\, there are no words\, only the alchemy of our bodies moving together and apart in space\, collectively and singularly. In the cabin we find things that are a kind of inheritance: dolls\, books\, pieces of clothing. We hear the sounds of loons\, of the wind at night\, and whispers of the ghosts that haunt us. \nPeggy Pettitt writes and performs original plays rooted in the art of African American storytelling.  For 25 years she worked in collaboration with director\, Rémy Tissier\, to create ten full length plays for which she received support from the National Endowment for the Arts\, New York Foundation for the Arts\, and Fulbright fellowships.  She teaches Self-Scripting at New York University and currently performs her solo play\, I EXIST-STORIES FOR BLACK LIVES\, which explores the roots and impacts of racism on “everyone of every color.”  \nLizzie Olesker makes plays and performances that explore the interplay of history\, personal memory and the unexpected poetry of everyday experience. She collaborated on the site-specific performance Every Fold Matters\, a documentary theater piece presented in NYC’s neighborhood laundromats. THE WASHING SOCIETY (2018)\, a hybrid documentary film she co-­‐directed with Lynne Sachs that traveled to many festivals including Punto de Vista (Spain)\, Encuentros de Otro Cinema (Ecuador)\, Vancouver Film Festival\, Chicago Underground Festival\, Pacific Film Archive at Berkeley Art Museum\, The National Art Gallery and BAM Cinema Festival. The script of Every Fold Matters and other writings inspired by the project will be in Hand Book: A Manual\, forthcoming from punctum press. Lizzie teaches playwriting and documentary theater at Eugene Lang College at the New School and at New York University. \nLouise Smith was Associate Professor of Theater and Performance at Antioch College from 1994-2008 and then again from 2014-2020. Her solo play DOROTHY LANE\, directed by Lizzie Olesker\, premiered at the Foundry Theater in 2018. She collaborated with Peggy Pettitt in 1988 to create PALAVER\, a play about two friends in the era of South African apartheid. Louise continues to write and create her own solo plays and appear with the Talking Band in New York City.
URL:https://antiochcollege.edu/event/the-language-of-dolls-at-the-foundry-theater/
LOCATION:Foundry Theater\, 920 Corry St\, Yellow Springs\, OH\, 45387\, United States
CATEGORIES:Community & Campus Events,Featured Event,Foundry Theater,Open to the Public
ATTACH;FMTTYPE=image/jpeg:https://antiochcollege.edu/wp-content/uploads/2024/07/IMG_1816.jpg
END:VEVENT
END:VCALENDAR