BEGIN:VCALENDAR
VERSION:2.0
PRODID:-//Antioch College - ECPv6.15.17.1//NONSGML v1.0//EN
CALSCALE:GREGORIAN
METHOD:PUBLISH
X-WR-CALNAME:Antioch College
X-ORIGINAL-URL:https://antiochcollege.edu
X-WR-CALDESC:Events for Antioch College
REFRESH-INTERVAL;VALUE=DURATION:PT1H
X-Robots-Tag:noindex
X-PUBLISHED-TTL:PT1H
BEGIN:VTIMEZONE
TZID:America/New_York
BEGIN:DAYLIGHT
TZOFFSETFROM:-0500
TZOFFSETTO:-0400
TZNAME:EDT
DTSTART:20210314T070000
END:DAYLIGHT
BEGIN:STANDARD
TZOFFSETFROM:-0400
TZOFFSETTO:-0500
TZNAME:EST
DTSTART:20211107T060000
END:STANDARD
BEGIN:DAYLIGHT
TZOFFSETFROM:-0500
TZOFFSETTO:-0400
TZNAME:EDT
DTSTART:20220313T070000
END:DAYLIGHT
BEGIN:STANDARD
TZOFFSETFROM:-0400
TZOFFSETTO:-0500
TZNAME:EST
DTSTART:20221106T060000
END:STANDARD
BEGIN:DAYLIGHT
TZOFFSETFROM:-0500
TZOFFSETTO:-0400
TZNAME:EDT
DTSTART:20230312T070000
END:DAYLIGHT
BEGIN:STANDARD
TZOFFSETFROM:-0400
TZOFFSETTO:-0500
TZNAME:EST
DTSTART:20231105T060000
END:STANDARD
BEGIN:DAYLIGHT
TZOFFSETFROM:-0500
TZOFFSETTO:-0400
TZNAME:EDT
DTSTART:20240310T070000
END:DAYLIGHT
BEGIN:STANDARD
TZOFFSETFROM:-0400
TZOFFSETTO:-0500
TZNAME:EST
DTSTART:20241103T060000
END:STANDARD
BEGIN:DAYLIGHT
TZOFFSETFROM:-0500
TZOFFSETTO:-0400
TZNAME:EDT
DTSTART:20250309T070000
END:DAYLIGHT
BEGIN:STANDARD
TZOFFSETFROM:-0400
TZOFFSETTO:-0500
TZNAME:EST
DTSTART:20251102T060000
END:STANDARD
BEGIN:DAYLIGHT
TZOFFSETFROM:-0500
TZOFFSETTO:-0400
TZNAME:EDT
DTSTART:20260308T070000
END:DAYLIGHT
BEGIN:STANDARD
TZOFFSETFROM:-0400
TZOFFSETTO:-0500
TZNAME:EST
DTSTART:20261101T060000
END:STANDARD
BEGIN:DAYLIGHT
TZOFFSETFROM:-0500
TZOFFSETTO:-0400
TZNAME:EDT
DTSTART:20270314T070000
END:DAYLIGHT
BEGIN:STANDARD
TZOFFSETFROM:-0400
TZOFFSETTO:-0500
TZNAME:EST
DTSTART:20271107T060000
END:STANDARD
END:VTIMEZONE
BEGIN:VEVENT
DTSTART;TZID=America/New_York:20260408T123000
DTEND;TZID=America/New_York:20260408T133000
DTSTAMP:20260424T042648
CREATED:20260226T183243Z
LAST-MODIFIED:20260226T184838Z
UID:56742-1775651400-1775655000@antiochcollege.edu
SUMMARY:Antioch History with Scott Sanders
DESCRIPTION:Antiochiana Archivist Scott Sanders knows more about Antioch College than anyone else in the world. Scott has been at Antioch since 1994 and has lovingly stewarded the College’s collection of books\, artifacts\, and historical records for over 30 years. Here’s your chance to hear him talk about the interesting and entertaining history of Antioch! \nThis monthly series of one hour presentations will be held both in-person at the Olive Kettering Library and virtually via Zoom. Presentations are free and open to the public. There will be time for Q&A after each presentation. These sessions will be recorded and posted on Antioch’s YouTube channel. \nPresentations are from 12:30 – 1:30 pm in the Olive Kettering Library. \nOr you can join virtually via Zoom. Presentations will be shared on Antioch’s Facebook channel afterwards. \n\nScheduleMarch 11: 150 Years of Antioch in 60 Minutes or Less: A general overview of Antioch College history from the 1850s to the 2000s. \nApril 8: Fact and Fiction of Antioch College: An attempt to dispel three seemingly impossible-to-dispel myths about the College. \nMay 13: Red\, Russians\, and Spies: Two former professors who used Antioch as a haven from dangerous Russian and Communist spies; one for real\, and the other maybe in his head. \nJune 10: Why So Many Damn Colleges in Ohio: An attempt to explain the reason for the establishment of over eighty small colleges in the great state of Ohio. \nJuly 8: Antioch and The Civil War: A history of Antioch College during the central event in American history\, the US Civil War\, including exploits and experiences of Antiochians who served in the conflict. \nAugust 12: The Devil and Daniel Ellsberg or How Scott Got Fired: A brief history of Antiochiana and a harrowing personal account of Scott’s experiences with Antioch University. \nSeptember 9: The Life of Hugh Taylor Birch: The improbable rags to riches story of a dropout from the 1860s who gave Antioch College a glen (and so much more) and has a dormitory named in his honor. \nOctober 14: Women of the Glen: The lives of three women associated with the College’s former nature preserve: a scientist\, an art collector\, and a sculptor. \nNovember 11: My Hero Horace Mann: A biographical picture show about Antioch College’s first president.
URL:https://antiochcollege.edu/event/history-with-scott-april8/
LOCATION:Glacier Hills Senior Living Community\, 1200 Earhart Rd\, Ann Arbor\, MI\, 48105\, United States
CATEGORIES:Advancement & Alumni Relations,Community & Campus Events,Olive Kettering Library,Open to the Public,Public Programs
ATTACH;FMTTYPE=image/png:https://antiochcollege.edu/wp-content/uploads/2026/02/unnamed3.png
ORGANIZER;CN="Alumni Relations":MAILTO:alumni@antiochcollege.edu
END:VEVENT
BEGIN:VEVENT
DTSTART;TZID=America/New_York:20260311T123000
DTEND;TZID=America/New_York:20260311T133000
DTSTAMP:20260424T042648
CREATED:20260226T184550Z
LAST-MODIFIED:20260226T184555Z
UID:56747-1773232200-1773235800@antiochcollege.edu
SUMMARY:Antioch History with Scott Sanders
DESCRIPTION:Antiochiana Archivist Scott Sanders knows more about Antioch College than anyone else in the world. Scott has been at Antioch since 1994 and has lovingly stewarded the College’s collection of books\, artifacts\, and historical records for over 30 years. Here’s your chance to hear him talk about the interesting and entertaining history of Antioch! \nThis monthly series of one hour presentations will be held both in-person at the Olive Kettering Library and virtually via Zoom. Presentations are free and open to the public. There will be time for Q&A after each presentation. These sessions will be recorded and posted on Antioch’s YouTube channel. \nPresentations are from 12:30 – 1:30 pm in the Olive Kettering Library. \nOr you can join virtually via Zoom. Presentations will be shared on Antioch’s Facebook channel afterwards. \n\nScheduleMarch 11: 150 Years of Antioch in 60 Minutes or Less: A general overview of Antioch College history from the 1850s to the 2000s. \nApril 8: Fact and Fiction of Antioch College: An attempt to dispel three seemingly impossible-to-dispel myths about the College. \nMay 13: Red\, Russians\, and Spies: Two former professors who used Antioch as a haven from dangerous Russian and Communist spies; one for real\, and the other maybe in his head. \nJune 10: Why So Many Damn Colleges in Ohio: An attempt to explain the reason for the establishment of over eighty small colleges in the great state of Ohio. \nJuly 8: Antioch and The Civil War: A history of Antioch College during the central event in American history\, the US Civil War\, including exploits and experiences of Antiochians who served in the conflict. \nAugust 12: The Devil and Daniel Ellsberg or How Scott Got Fired: A brief history of Antiochiana and a harrowing personal account of Scott’s experiences with Antioch University. \nSeptember 9: The Life of Hugh Taylor Birch: The improbable rags to riches story of a dropout from the 1860s who gave Antioch College a glen (and so much more) and has a dormitory named in his honor. \nOctober 14: Women of the Glen: The lives of three women associated with the College’s former nature preserve: a scientist\, an art collector\, and a sculptor. \nNovember 11: My Hero Horace Mann: A biographical picture show about Antioch College’s first president.
URL:https://antiochcollege.edu/event/history-with-scott-march11/
LOCATION:Glacier Hills Senior Living Community\, 1200 Earhart Rd\, Ann Arbor\, MI\, 48105\, United States
CATEGORIES:Advancement & Alumni Relations,Community & Campus Events,Olive Kettering Library,Open to the Public,Public Programs
ATTACH;FMTTYPE=image/png:https://antiochcollege.edu/wp-content/uploads/2026/02/unnamed3.png
ORGANIZER;CN="Alumni Relations":MAILTO:alumni@antiochcollege.edu
END:VEVENT
BEGIN:VEVENT
DTSTART;TZID=America/New_York:20240314T190000
DTEND;TZID=America/New_York:20240314T200000
DTSTAMP:20260424T042648
CREATED:20240308T161535Z
LAST-MODIFIED:20240308T181812Z
UID:48056-1710442800-1710446400@antiochcollege.edu
SUMMARY:State of the College 2024
DESCRIPTION:State of the College Address 2024\nWe are excited to announce that Antioch’s 2024 State of the College will be held virtually on March 14th at 7 pm EDT. This event presents a wonderful opportunity for our alumni and friends to reconnect with the Antioch community and gain insights into the college’s current state and future directions. \nPresident Jane Fernandes will deliver an address\, providing updates on recent developments and initiatives at Antioch\, followed by a moderated Q&A session where attendees will have the chance to ask questions directly to the President. \nWe encourage you to participate in this engaging event. If you have any questions you would like to submit in advance for the Q&A session\, please feel free to email your inquiries to advancement@antiochcollege.edu \n			\n				\n				\n				\n				\n				\n			\n				Click to View Livestream
URL:https://antiochcollege.edu/event/state-of-the-college-2024/
LOCATION:MI
CATEGORIES:Advancement & Alumni Relations,Community & Campus Events,Featured Event,Open to the Public
ATTACH;FMTTYPE=image/jpeg:https://antiochcollege.edu/wp-content/uploads/2022/10/state-of-the-college-2022-virtual-flier-DRAFT-10-20-22.jpg
END:VEVENT
BEGIN:VEVENT
DTSTART;TZID=America/New_York:20230523T183000
DTEND;TZID=America/New_York:20230523T203000
DTSTAMP:20260424T042648
CREATED:20230518T170101Z
LAST-MODIFIED:20230522T163601Z
UID:45333-1684866600-1684873800@antiochcollege.edu
SUMMARY:POSTPONED: Antioch Alumni Happy Hour DC 2023
DESCRIPTION:Antioch Alumni Happy Hour DC \nHosted byKaren Mulhauser ’65 & John Capozzi \nFor Antioch alumni and friends! Come celebrate the power of equitable higher ed and meet champion and Antioch’s first Deaf president Dr. Jane Fernandes. Enjoy delicious desserts\, coffee\, wine\, and beer. \nTuesday\, May 23\, 20236:30-8:30pm \nLocation: 700 Pennsylvania Avenue Southeast\, 2nd Floor – back kitchen   \nRSVP today! \nThis event is FREE. Wheelchair accessible. \n  
URL:https://antiochcollege.edu/event/dc-alumni-happy-hour-2023/
LOCATION:MI
CATEGORIES:Advancement & Alumni Relations
ATTACH;FMTTYPE=image/jpeg:https://antiochcollege.edu/wp-content/uploads/2023/05/Antioch-College_Invitation-to-DC-Alums-Happy-Hour-scaled.jpg
ORGANIZER;CN="Alumni Relations":MAILTO:alumni@antiochcollege.edu
END:VEVENT
BEGIN:VEVENT
DTSTART;TZID=America/New_York:20230322T190000
DTEND;TZID=America/New_York:20230322T203000
DTSTAMP:20260424T042648
CREATED:20230308T201655Z
LAST-MODIFIED:20230322T203113Z
UID:44598-1679511600-1679517000@antiochcollege.edu
SUMMARY:Virtual Town Hall with President Jane Fernandes
DESCRIPTION:On Wednesday\, March 22\, 2023 7-8:30PM EST\, Antioch College will host a virtual Town Hall Event. Antioch’s president\, Dr. Jane Fernandes\, will discuss her recently-launched President’s Initiative\, with an opportunity for live Q&A. \nWe hope our community of Antiochians & Friends will join our community in action and learn more about this important initiative at a crucial moment in the College’s history. \nRegistration here. \nDirect Zoom Link here:https://us06web.zoom.us/j/88413210245?pwd=RnY4RlEzYi9DUlBGTWk5ZEQ1dzE5QT09
URL:https://antiochcollege.edu/event/virtual-town-hall-with-president-jane-fernandes-2023/
LOCATION:MI
CATEGORIES:Advancement & Alumni Relations,Community & Campus Events,Featured Event,Open to the Public
ATTACH;FMTTYPE=image/png:https://antiochcollege.edu/wp-content/uploads/2023/03/march-town-hall-2023-branding-01.png
END:VEVENT
BEGIN:VEVENT
DTSTART;TZID=America/New_York:20230315T180000
DTEND;TZID=America/New_York:20230315T200000
DTSTAMP:20260424T042648
CREATED:20230303T181414Z
LAST-MODIFIED:20230303T181425Z
UID:44529-1678903200-1678910400@antiochcollege.edu
SUMMARY:Spring Fling Happy Hour 2023
DESCRIPTION:Spring Fling Happy Hourto benefit Antioch College \nHosted byShelby Chestnut ’05\, Shalini Deo ’02\, & Ace Xavier Portis\, Trustee \nFor Antioch alumni and friends!Come celebrate the power of equitable higher ed and meet champion and Antioch’s first Deaf president Dr. Jane Fernandes. \nWednesday\, March 15\, 20236-8pm \nOde to Babel772 Dean StreetProspect Heights\, Brooklyn \nRSVP today! \nThis event is FREE with a cash bar featuring specials on cocktails and mocktails.Wheelchair accessible. \n  
URL:https://antiochcollege.edu/event/spring-fling-happy-hour-2023/
LOCATION:MI
CATEGORIES:Advancement & Alumni Relations
ATTACH;FMTTYPE=image/jpeg:https://antiochcollege.edu/wp-content/uploads/2023/03/spring-fling-happy-hour-3-15-23-email-graphic-3-3-23-REV-A.jpg
END:VEVENT
BEGIN:VEVENT
DTSTART;TZID=America/New_York:20221027T160000
DTEND;TZID=America/New_York:20221027T173000
DTSTAMP:20260424T042648
CREATED:20221024T141627Z
LAST-MODIFIED:20221024T150728Z
UID:43170-1666886400-1666891800@antiochcollege.edu
SUMMARY:State of the College 2022
DESCRIPTION:Join us\, and fellow Antiochians\, for a virtual State of the College Address followed by Community Social Hour. \nThe event will be conducted on Antioch College’s virtual event platform\, Remo. Pre-registration is highly encouraged.  \nTo register\, please visit:https://live.remo.co/e/state-of-the-college/register \nFor any questions about accessing the Antioch College State of the College Address and Community Social Hour\, please contact advancement@antiochcollege.edu.
URL:https://antiochcollege.edu/event/state-of-the-college-2022/
LOCATION:MI
CATEGORIES:Advancement & Alumni Relations,Community & Campus Events,Featured Event,Open to the Public
ATTACH;FMTTYPE=image/jpeg:https://antiochcollege.edu/wp-content/uploads/2022/10/state-of-the-college-2022-virtual-flier-DRAFT-10-20-22.jpg
END:VEVENT
BEGIN:VEVENT
DTSTART;VALUE=DATE:20220714
DTEND;VALUE=DATE:20220718
DTSTAMP:20260424T042648
CREATED:20220331T210721Z
LAST-MODIFIED:20221012T013453Z
UID:39629-1657756800-1658102399@antiochcollege.edu
SUMMARY:Reunion 2022
DESCRIPTION:The 2022 Antioch College Reunion will return as an in-person event in Yellow Springs this July 14-17th! \nWe are so excited to welcome back to campus all classes especially the 50th class of 1972 (plus 1971 and 1970 who missed their 50th in-person reunions due to the pandemic). Other anniversary years like the 5th\, 25th and 65th are encouraged to organize your cohort to return this year! \nWe are planning a variety of presentations\, scintillating conversations and interactive events to entice alums from every discipline back to Campus. (See the Preliminary Schedule for details.) \n			\n			\n				\n				\n				\n				\n			\n				\n				\n				\n				\n				\n				\n				\n				\n				\n				\n				\nMany dancer/choreographers are planning participatory dance events.\nThere’ll be panels on current issues like how to address right wing attacks on public education (a threat to Horace Mann’s legacy)\, how to develop livable communities using Yellow Springs as an object lesson\, and the impact your Antioch experience had on your life.\nScott Sanders\, head of Antiochiana\, will give us a historical tour of Campus and Peter Townsend\, emeritus Geology faculty\, will give us a photographic tour of the Glen as well as an actual walk.\n\n			\n			\n				\n				\n				\n				\n				\n				\n				\n				\n				\n				\nWYSO will interview selected alums about your life’s work\,\nWe’re planning a funeral for the Student Union (The Stoop will remain!)\nAnd Div Dance will be DJ’d by Clean Gene Lohman and Shane Creepingbear!\nPlus all the important opportunities to meet the new president\, Jane Fernandes\, hear the Alumni Awardees presentations and so much more!\n\n			\n			\n				\n				\n				\n				\n			\n				\n				\n				\n				\n				\n				\n				\n				\n				\n				\n				Of course the best part of Reunion is the opportunity to reconnect with your friends. We encourage you to reach out to your classmates and get them to register! \nDue to COVID protocols we are limiting registration to 250 spots at this time\, so don’t hesitate. We have dorm rooms available and area hotel rooms are on hold. \nWe can’t wait to welcome you back to Campus and Yellow Springs. We need your involvement in Antioch and there is no better way to engage than attending Reunion and the Volunteer Work Project (See details attached) scheduled for July 10-14th. \n			\n			\n				\n				\n				\n				\n			\n				\n				\n				\n				\n				\n				\n				\n				\n				\n				\n				Reunion Schedule\n				Reunion 2022 Schedule\nThursday\, July 14th\, 2022\n8:30 AM – 3:30 PM\nVolunteer Work Project\nMust register in advance \n8:30 AM – 3:30 PM\nReunion Registration\nSouth Hall\, 1st Floor\nSign-ups available for WYSO Interviews\,\n30 min. slots \n4:00 PM – 5:30 PM\nDance / Choreographer Closed Rehearsal\nWellness Center\, Studio B \n6:00 PM – 7:00 PM\nHerndon Gallery Reception\nHerndon Gallery\, South Hall\, 1st Floor\nWelcome Reception and Performance Exhibit \n7:00 PM – 9:00 PM\nGolden Anniversary Dinner & Faculty Tribute\nEvent Tent\nClasses 1970\, 1971\, 1972 and friends \nFriday\, July 15th\, 2022\n8:00 AM – 9:00 AM\nC-Shop Grab and Go Breakfast\nOlive Kettering Library \n8:30 AM – 3:30 PM\nReunion Registration\nSouth Hall\, 1st Floor\nSign-ups available for WYSO Interviews\,\n30 min. slots \n9:00 AM – 11:30 AM\nSelf-Guided Tour of Glen Helen\, Yellow Springs\,\nAntioch Farm\nGlen Helen\, Yellow Springs\, Antioch Farm \n9:00 AM – 10:00 AM\nPeter Townsend Glen Helen Photo Presentation\nArts and Science Building\, Room 219 \n10:00 AM – 11:00 AM\nAntioch History Tour with Scott Sanders\nMeet at Olive Kettering Library \n12:00 PM – 1:30 PM\nLunch\nEvent Tent\nAffinity Groups: Legal Workers\, Community Government\, Science\, Arts & Performance \n1:45 PM – 2:45 PM\nInterPlay Session\nOutside of Event Tent\nMovement icebreaker\, Judith Reichsman ’71 \n3:00 PM – 4:00 PM\nAll Alumni Dance/Movement Training workshops for Pop-Up dances\nWellness Center\, Studio B\nDance rehearsal\nTrio A & Pop-up Dances \n4:15 PM – 5:15 PM\nLife After Antioch Panel\nMcGregor 113\nJessie Herr Coordinating\nHybrid and Recorded \n5:30 PM – 6:30 PM\nDecades Receptions\nEvent Tent\nDecades photos \n6:30 PM – 8:00 PM\nDinner\nHorace Mann Awardee –\nLuke Danielson ’71\nEvent Tent \n8:00 PM – 9:00 PM\nFolk Dance\nRed Square \n9:30 PM – 11:00 PM\nCabaret Horace\nFoundry (Antioch Area) Theater \nSaturday\, July 16th\, 2022\n8:00 AM – 9:00 AM\nC-Shop Grab and Go Breakfast\nOlive Kettering Library \n8:30 AM – 3:30 PM\nReunion Registration\nSouth Hall\, 1st Floor\nSign-ups available for WYSO Interviews\,\n30 min. slots \n10:00 AM – 12:00 PM\nWYSO Interviews\nWYSO \n10:00 AM – 11:00 AM\nPanel: Educational Protest Strategies\nMcGregor 113\nOrganizers: Larry Rubin and Jon Baker \n11:30 AM – 12:15 PM\nChapters Organizers\, Alumni Recruitment Team Meetings\nEvent Tent \n11:30 AM – 12:15 PM\nLunch\nEvent Tent \n12:15 PM – 12:30 PM\nPop-Up Dances\nOutside of Event Tent \n12:30 PM – 2:00 PM\nAlumni Association Meeting & Presidential Address\nEvent Tent\nPresident Fernandes \n2:00 PM – 4:00 PM\nWYSO Interviews\nWYSO \n2:00 PM – 2:30 PM\nReunion Photos\nFront Campus\, Main Building Stairs facing Glen Helen \n2:45 PM – 3:45 PM\nPanel: Building a Livable Community\nNew Urbanism a YSO Perspective\nMcGregor 113\nOrganizer: David Scott \n4:00 PM – 5:00 PM\nAlumni Award Plenary\nMcGregor 113\nHybrid Session\nWalter Anderson Award- Maceo Cofield ’71\nArthur Morgan Award- Adrienne Houel ‘70\nRebecca Rice Award – Alice Gerard ’58 \n5:00 PM – 6:00 PM\nPlanned Giving Q&A\nMcGregor 118\nJoan Straumanis ’57 \n6:15 PM – 6:30 PM\nParticipatory Memorial Dance – Ceil Gruessing ’72\nOutside Event Tent \n6:30 PM – 9:00 PM\nCelebration Dinner\nJ.D. Dawson Awardee\nEvent Tent \n9:00 PM – 10:00 PM\nStudent Union Procession & Funeral\nStudent Union Stoop\nPlease wear white \n9:30 PM – 11:30 PM\nMovie Night\nArts and Science Building\, Room 219\nAmerican Factory (winner of the 2019 Oscar)\, 90 min\, by Julia Reichert ’70  and Steve Bognar and an Award and Recognition Ceremony\n(11 min.) for their outstanding documentary film work. \n10:00 PM – 12:00 AM\nDiv Dance\nThe Foundry Theater\nDJs: Clean Gene Lohman\n& Shane Creepingbear \nSunday\, July 17th\, 2022\n9:00 AM – 11:00 AM\nFarewell Brunch\nEvent Tent \n11:00 AM – 12:00 PM\nTime for Remembrance\nHerndon Gallery\nHybrid Session with Deane Oliva \n12:45 PM – 2:45 PM\nAlumni Board Meeting\nArts and Science Building\, Room 202 \n \n			\n				\n				\n				\n				\n				Volunteer Work Project\n				Volunteer Work Project \nThe summer 2022 Volunteer Work Project will start Sunday\, July 10th with a reception and no-host dinner. Work starts Monday morning and will cover a variety of physical and administrative tasks (e.g. painting\, carpentry\, vehicle maintenance\, Reunion preparation\, etc.). Most meals during the week will be provided to you.  \nYour housing will be provided to you for free during your stay through July 14th.  If you attend the all classes’ reunion\, July 14-17th\, you may continue to stay in your West room for free. When you register for Reunion\, mark VWP as your housing choice.  More VWP details will follow. \n			\n				\n				\n				\n				\n				Housing Information\n				Housing:There are three types of housing available at Reunion for 2022: \n\nOn Campus\, Dorm Rooms\nOn Campus\, Primitive Camping\nArea Motels & AirBnB\n\nOn Campus\, Dorm Rooms:On Campus Dorm housing is FULL at this time \nThe College has 96 dorm rooms available in North Hall. Most are double rooms with two beds. A few single bed rooms are available as well.Please select the number of days you will need sleeping accommodations. You will be asked for your preferred roommate. If you do not have a roommate\, you will be matched with a person of the same gender. You will each pay separately for your room.For special accommodations or accessibility requirements for on-campus housing\, please contact Mary Evans\, mary.evans@antiochcollege.edu. \nOn Campus\, Primitive Camping:Primitive camping will be available\, free of charge\, on the lawn between West Hall and the Coretta Scott King Center. Please indicate your intention to camp on campus when you register.Area motels\, AirBnB:We have put blocks of rooms on hold. You can contact these establishments directly: \nHearthstone Inn\, Cedarville (7 miles from YSO) \n\nHearthstoneinn.com\n937-766-3000\n8 rooms on hold (double queens and some kings)\nMention “Antioch reunion” to book room\nOn Hold until April 15\, 2022\n\nSpringHill Suites by Marriott\, Beavercreek (10 miles from YSO) \n\nSpringHill Suites by Marriott Reservation Link\n(937) 429-9090\nMention “Antioch reunion” to book room\n50 rooms on hold:30 double queens @ $13920 Kings @ $128\n\nSprings Motel\, Goes (2 miles from YSO) \n\n(937) 767-8700\nCheaper if one person books the rooms through a credit card and gets reimbursed\n\nMills Park Hotel\, YSO \n\n(937) 319-0400\nThey may have some availability.\nNo hold on rooms.\n\n			\n				\n				\n				\n				\n				\n\n\n\nWho Will be at Reunion 2022? \n\n\n\n\n			\n			\n				\n				\n				\n				\n			\n				\n				\n				\n				\n				\n				\n				\n				\n				\n				\n				’49 - ’71\n				Mary Bowman (Brombacher\, Bieri) ’49Paul Graham ’52Nina Myatt ’53Sharon Merriman ’55Ruti Schwartzenberg ’56Joan Straumanis ’57Irwin Pomerantz ’57Zelda Gamson ’59Peggy Erskine ’60Charlotte Hallam ’60Linda Myers ’61Ralph Overton ’61Jessie Herr ’63Elise Roenigk ’64Gary Goldsmith ’64Tanya Mink ’65Joan Stockton ’65Penelope Storm ’65David Vincent ’65Nicholas Muska ’65Susan Muska ’65Larry Rubin ’65Sherraid Scott ’65Paula Treichler ’65Kenneth Tiven ’66Lisa Wellman ’66Stephen Tobias ’66Karen Foreit ’67Katherine Huff ’67Louise Meller ’67Claudene Oliva ’67Larraine Granger ’67Antonia Dosik ’67Peter Creelman ’67Thomas LaMers ’68Pamela Hogarty ’68John Knox ’68Mary Bell ’69Evelyn LaMers ’69Helen Welford ’69Megan Rosenfeld ’69Roger Huff ’69Denwood Parrish ’69Carolyn Smith ’69Lee Feinstein ’70Lawrence Foster ’70Andrew Gale ’70Marc Lendler ’70Adrienne Houel ’70Susan Horowitz ’71Jeffrey Gold ’71Lydia Romer ’71Richard Meyers ’71Luke Danielson ’71Dennie Eagleson ’71Ellen Denker ’71Anita Ehrenfried ’71Victoria Leuba ’71Maceo Cofield ’71Nancy Pollock ’71Mark Laurence Pomerantz ’71 \n			\n			\n				\n				\n				\n				\n				\n				\n				\n				\n				\n				’72 - ’79\n				William Bradbury ’72Heidi Mover ’72John Comstock ’72Catherine Jordan ’72Stephen Turner ’72Cecilia Gruessing ’72Richard Taylor ’72Andrea Kornbluh ’72John Kornbluh ’72Peter Corcoran ’72Jonathan Baker ’72Sam Hausfather ’72Diane Colello ’72Thomas Herman ’72D. Brooke Higdon ’72Stewart Lauterbach ’72Jeffrey Lerner ’72Nora Newcombe ’72Rebecca Nordstrom ’72Mark Sheppard ’72J Lawrence Smith ’72Barbara Estomin ’72Erik Larsen ’72Stephen Mooser ’72Karen Rosenberg ’72Arthur Sadin ’72David Scott ’72Janet Sullivan ’72Richard Zopf ’73Ann Reichsman ’73P. Nathan Bowles\, Jr. ’73Linda Sikes ’73David Southern ’73Charles Jaffe ’73Abigail Jaye ’73Marianne See ’73Marsha Baker ’73David Jacobs ’73James Spangler ’74Edwin Amrhein ’74John Abbott ’74Deborah Bakan ’74Lorren Garlichs ’74Paul Hollister ’74Barbara Esbin ’75Judith Church ’75Robert Goldsmith ’76Rebecca Mark ’77Steven Duffy ’77Marc Oliver ’77Peter Labermeier ’78Kanta Kochhar-Lindgren ’78Karin Liedtke ’79Donn Denman ’79Corey Slavitt ’79 \n			\n			\n				\n				\n				\n				\n				\n				\n				\n				\n				\n				’80 - ’22\n				Phaye Poliakoff-Chen ’80Jay Rothman ’80Anna Hogarty ’80Eric Miller ’81James Hunter ’82Linnea Denman ’83Michael Casselli ’87Jonathan Hammer ’90Steven Oliver ’90Margo Lowenstein ’90Daniel Insenstein ’90Felicia Chappelle ’91Stacy Muise ’91Hope Anne Nathan ’92April Wolford ’92Nicola Baltimore ’92Henry Cherry ’93Marc Snyder ’94Tod Tyslan ’96Phillip Brigham ’97Edward Koziarski ’97Jilana Ordman ’98Mariella Arredondo ’98Clarissa Helton ’98Mackenzie Bristow ’01Rachel Townsend ’02Clinton Owner ’02Yunus Brevik ’03Shelby Chestnut ’05Rachael Chromec ’05Jonathan Estes ’05Elizabeth Richards ’06Maria Ycaza ’06Rose Pelzl ’10Lincoln Alpern ’11Keeton Byerly ’17Alison Easter ’17Jane Foreman ’17Lauren Gjessing ’17Greta Treistman ’17Katie Sherman ’19Noah Yasgur ’19Mary Evans ’20Noah Greer ’22
URL:https://antiochcollege.edu/event/reunion-2022-registration/
LOCATION:Antioch College\, 1 Morgan Pl\, Yellow Springs\, OH\, 45387\, United States
CATEGORIES:Advancement & Alumni Relations,Community & Campus Events,Featured Event
ATTACH;FMTTYPE=image/png:https://antiochcollege.edu/wp-content/uploads/2022/03/reunion-2022-logo-sq.png
ORGANIZER;CN="Alumni Association":MAILTO:alumni@antiochcollege.edu
END:VEVENT
BEGIN:VEVENT
DTSTART;TZID=America/New_York:20220404T080000
DTEND;TZID=America/New_York:20220408T200000
DTSTAMP:20260424T042648
CREATED:20220329T153828Z
LAST-MODIFIED:20221012T013500Z
UID:39564-1649059200-1649448000@antiochcollege.edu
SUMMARY:The Volunteer Work Project April 2022
DESCRIPTION:The Volunteer Work Project is officially back in-person! We have worked out a plan to bring the Volunteer Work Project back to campus for APRIL 2022!  Housing is being offered at West Hall. All volunteers will need to be fully vaccinated and follow all the COVID safety protocols while on campus.  \n Please complete the registration as soon as possible so the amazing Kitchen Crew can plan for your meals! \nCOVID-19 Requirements  \n* Vaccinations are required for all volunteers. Please bring confirmation of your vaccination status. \n* A negative COVID test is required for all volunteers. Please bring confirmation of a negative test within 72 hrs of arrival on campus or take a test when you arrive.   \nRegister to attend the event by clicking here.
URL:https://antiochcollege.edu/event/the-volunteer-work-project-april-2022/
LOCATION:Antioch College\, 1 Morgan Pl\, Yellow Springs\, OH\, 45387\, United States
CATEGORIES:Advancement & Alumni Relations,Community & Campus Events,Featured Event,Open to the Public
ATTACH;FMTTYPE=image/png:https://antiochcollege.edu/wp-content/uploads/2022/03/April-VWP-Photo-2.png
ORGANIZER;CN="Alumni Relations":MAILTO:alumni@antiochcollege.edu
END:VEVENT
BEGIN:VEVENT
DTSTART;TZID=America/New_York:20220324T190000
DTEND;TZID=America/New_York:20220324T203000
DTSTAMP:20260424T042648
CREATED:20220323T140137Z
LAST-MODIFIED:20221012T013503Z
UID:39451-1648148400-1648153800@antiochcollege.edu
SUMMARY:March Town Hall 2022
DESCRIPTION:Antioch College March Town Hall 2022Thursday\, March 24th\, 7 – 8:30 PM ET \nPlease register to attend:https://alumni.antiochcollege.edu/e/town-hall-meeting-spring-2022 \nJoin Online: tinyurl.com/yc88txysOr by Phone +1 (929) 205-6099 \nEMCEEShelby Chestnut ‘05\, Chair\, Board of Trustees \nTHE PRESIDENTIAL PERSPECTIVEJane Fernandes\, President \nGROWING FINANCIAL STABILITYBob McKee ‘88\, VP of Finance \nTHE VIEW FROM ADMISSIONSShane Creepingbear ‘08\, Dean of Admission\, Kiowa Tribe of Oklahoma \n50TH ANNIVERSARY REUNIONCatherine Jordan ‘72\, VP Alumni Board \nSTUDENT AFFAIRS IN THE MOMENTBill Fox\, VP of Student Affairs & Dean of Students \nON COMMUNITY PRACTICECoco Gagnet ‘18\, Community Manager
URL:https://antiochcollege.edu/event/march-town-hall-2022/
LOCATION:Zoom
CATEGORIES:Advancement & Alumni Relations,Community & Campus Events,Featured Event,Open to the Public
ATTACH;FMTTYPE=image/jpeg:https://antiochcollege.edu/wp-content/uploads/2022/03/march-town-hall-2022-antioch-website-featured-image.jpg
END:VEVENT
END:VCALENDAR