BEGIN:VCALENDAR
VERSION:2.0
PRODID:-//Antioch College - ECPv6.15.17.1//NONSGML v1.0//EN
CALSCALE:GREGORIAN
METHOD:PUBLISH
X-ORIGINAL-URL:https://antiochcollege.edu
X-WR-CALDESC:Events for Antioch College
REFRESH-INTERVAL;VALUE=DURATION:PT1H
X-Robots-Tag:noindex
X-PUBLISHED-TTL:PT1H
BEGIN:VTIMEZONE
TZID:America/New_York
BEGIN:DAYLIGHT
TZOFFSETFROM:-0500
TZOFFSETTO:-0400
TZNAME:EDT
DTSTART:20240310T070000
END:DAYLIGHT
BEGIN:STANDARD
TZOFFSETFROM:-0400
TZOFFSETTO:-0500
TZNAME:EST
DTSTART:20241103T060000
END:STANDARD
BEGIN:DAYLIGHT
TZOFFSETFROM:-0500
TZOFFSETTO:-0400
TZNAME:EDT
DTSTART:20250309T070000
END:DAYLIGHT
BEGIN:STANDARD
TZOFFSETFROM:-0400
TZOFFSETTO:-0500
TZNAME:EST
DTSTART:20251102T060000
END:STANDARD
BEGIN:DAYLIGHT
TZOFFSETFROM:-0500
TZOFFSETTO:-0400
TZNAME:EDT
DTSTART:20260308T070000
END:DAYLIGHT
BEGIN:STANDARD
TZOFFSETFROM:-0400
TZOFFSETTO:-0500
TZNAME:EST
DTSTART:20261101T060000
END:STANDARD
END:VTIMEZONE
BEGIN:VEVENT
DTSTART;TZID=America/New_York:20250120T150000
DTEND;TZID=America/New_York:20250120T180000
DTSTAMP:20260420T073541
CREATED:20241018T150046Z
LAST-MODIFIED:20241018T150311Z
UID:51137-1737385200-1737396000@antiochcollege.edu
SUMMARY:Freedom Forum  MLK Day Reading and Open Mic at the CSKC
DESCRIPTION:Freedom Forum\nMLK Day Reading and Open Mic  \nDate: Monday\, January 20\, 2025  \nTime: 3:00 PM – 6:00 PM  \nLocation: Coretta Scott King Center \nAs part of the Yellow Springs MLK Day celebration\, join Kevin McGruder and Truth Garrett as they host this annual reading and open mic. We will have literature that you can choose from\, but please feel free to bring your own selections to share during this powerful event. 
URL:https://antiochcollege.edu/event/rhythm-and-release-african-diaspora-dance-class-at-the-cskc-6/
LOCATION:Coretta Scott King Center\, 750 Livermore St\, Yellow Springs\, OH\, 45387\, United States
CATEGORIES:Community & Campus Events,Coretta Scott King Center,Featured Event,Open to the Public,Public Programs
ATTACH;FMTTYPE=image/png:https://antiochcollege.edu/wp-content/uploads/2024/10/CSKC-Logo-Picture1.png
END:VEVENT
END:VCALENDAR