BEGIN:VCALENDAR
VERSION:2.0
PRODID:-//Antioch College - ECPv6.15.17.1//NONSGML v1.0//EN
CALSCALE:GREGORIAN
METHOD:PUBLISH
X-ORIGINAL-URL:https://antiochcollege.edu
X-WR-CALDESC:Events for Antioch College
REFRESH-INTERVAL;VALUE=DURATION:PT1H
X-Robots-Tag:noindex
X-PUBLISHED-TTL:PT1H
BEGIN:VTIMEZONE
TZID:America/New_York
BEGIN:DAYLIGHT
TZOFFSETFROM:-0500
TZOFFSETTO:-0400
TZNAME:EDT
DTSTART:20250309T070000
END:DAYLIGHT
BEGIN:STANDARD
TZOFFSETFROM:-0400
TZOFFSETTO:-0500
TZNAME:EST
DTSTART:20251102T060000
END:STANDARD
BEGIN:DAYLIGHT
TZOFFSETFROM:-0500
TZOFFSETTO:-0400
TZNAME:EDT
DTSTART:20260308T070000
END:DAYLIGHT
BEGIN:STANDARD
TZOFFSETFROM:-0400
TZOFFSETTO:-0500
TZNAME:EST
DTSTART:20261101T060000
END:STANDARD
BEGIN:DAYLIGHT
TZOFFSETFROM:-0500
TZOFFSETTO:-0400
TZNAME:EDT
DTSTART:20270314T070000
END:DAYLIGHT
BEGIN:STANDARD
TZOFFSETFROM:-0400
TZOFFSETTO:-0500
TZNAME:EST
DTSTART:20271107T060000
END:STANDARD
END:VTIMEZONE
BEGIN:VEVENT
DTSTART;TZID=America/New_York:20260303T183000
DTEND;TZID=America/New_York:20260303T193000
DTSTAMP:20260422T081832
CREATED:20260113T191702Z
LAST-MODIFIED:20260225T175344Z
UID:55778-1772562600-1772566200@antiochcollege.edu
SUMMARY:Mad River Theater Works Presents: It's Tuesday\, Let's Dance
DESCRIPTION:Mad River Theater Works presents It’s Tuesday\, Let’s Dance \nCajun Basics with Sharon Leahy \nWho’s it for? Beginner to experienced dancers — come learn or practice the basics of Cajun dance.What to wear? Any smooth sole shoesWhen? Four Tuesdays: February 24th\, March 3rd\, 10th and 17th at 6:30 – 7:30 PMWhere? The Herndon Gallery at Antioch College\, 805 Livermore Street\, Yellow Springs\, OH 45387Cost: $60 for the session (all 4 classes)More info: chris@madrivertheater.org \nCome dance with us — good music\, good moves\, and a great time! We’ll be getting ready to have a wonderful dance party on March 21 with the Cajun Country Revival – a magnificent authentic Cajun band being assembled by WYSO’s Linzay Young. \n			\n			\n				\n				\n				\n				\n			\n				\n				\n			\n				\n				\n				\n				\n				\n				\n				\n				\n				\n				\n				\n				\n				\n				\n				\n				\n				\n				Updated Event Location: Herndon Gallery at Antioch College\, South Hall\, 805 Livermore Street\, Yellow Springs\, OH 45387 \nParking: Please note that parking is available in the lot behind the Wellness Center / OK Library. On-street parking is available on Livermore Street and adjacent streets. Accessible passenger drop-off/pick-up is available via Morgan Place\, off of Livermore Street.
URL:https://antiochcollege.edu/event/mad-river-theater-works-presents-its-tuesday-lets-dance-6/
LOCATION:Herndon Gallery\, 805 Livermore Street\, Antioch College\, South Hall\, Yellow Springs\, OH\, 45387-1683\, United States
CATEGORIES:Community & Campus Events,Featured Event,Foundry Theater,Open to the Public
ATTACH;FMTTYPE=image/jpeg:https://antiochcollege.edu/wp-content/uploads/2025/10/sharon_rick.jpg
END:VEVENT
BEGIN:VEVENT
DTSTART;TZID=America/New_York:20260307T190000
DTEND;TZID=America/New_York:20260307T210000
DTSTAMP:20260422T081832
CREATED:20250812T161223Z
LAST-MODIFIED:20260223T174428Z
UID:54587-1772910000-1772917200@antiochcollege.edu
SUMMARY:Mark Lomax: "The Unity Suite"
DESCRIPTION:Mark Lomax II and the Urban Art Ensemble will present their new release\, The Unity Suite\, which draws musical inspiration from Lomax’s experiences in the Black church.\nExperience a musical performance focused on elevating the human spirit through healing\, transformation\, and unifying the human family. The Unity Suite\, a composition in six movements\, shows how music was used to facilitate spiritual transformation in the church performers and the congregation\, allowing them to thrive in the midst of physical\, political\, economic\, and psychological terror. Lomax invokes the power of Black sacred music and worship traditions to engage the global challenges humanity must overcome to save itself and the planet\, and to find a spiritual balance with the cosmos. Lomax has performed at the Foundry in each of the past two seasons and we welcome him back with this stunning new work. \nUrban Art Ensemble\nKenyatta Beasley – trumpet\nRob Dixon – alto saxophone\nEdwin Bayard – tenor and soprano saxophones\nWilliam Menefield – piano\nDean Hulett – bass\nMark Lomax II – drums and composition \n			\n				Get Tickets\n			\n				Season Ticket Packages\n			\n			\n				\n				\n				\n				\n			\n				\n				\n			\n				\n				\n				\n				\n				\n				\n				\n				\n				\n				\n				\n				\n				\n				\n				\n				\n				\n				Updated Event Location: Herndon Gallery at Antioch College\, South Hall\, 805 Livermore Street\, Yellow Springs\, OH 45387 \nParking: Please note that parking is available in the lot behind the Wellness Center / OK Library. On-street parking is available on Livermore Street and adjacent streets. Accessible passenger drop-off/pick-up is available via Morgan Place\, off of Livermore Street.
URL:https://antiochcollege.edu/event/mark-lomax-the-unity-suite-at-the-foundry-theater/
LOCATION:Herndon Gallery\, 805 Livermore Street\, Antioch College\, South Hall\, Yellow Springs\, OH\, 45387-1683\, United States
CATEGORIES:Community & Campus Events,Featured Event,Foundry Theater,Herndon Gallery,Open to the Public
ATTACH;FMTTYPE=image/jpeg:https://antiochcollege.edu/wp-content/uploads/2025/08/mark-lomax-new.jpg
END:VEVENT
BEGIN:VEVENT
DTSTART;TZID=America/New_York:20260308T160000
DTEND;TZID=America/New_York:20260308T180000
DTSTAMP:20260422T081832
CREATED:20250812T183208Z
LAST-MODIFIED:20260225T180935Z
UID:54470-1772985600-1772992800@antiochcollege.edu
SUMMARY:The World House Choir - International Women's Day
DESCRIPTION:The International Women’s Day theme nationally is “Accelerate Action.” This theme emphasizes the need to speed up progress toward gender equality. You can be sure that the World House Choir will be part of the action as we celebrate with spoken word\, music\, and much more. Don’t miss it. \n			\n			\n				\n				\n				\n				\n			\n				\n				\n			\n				\n				\n				\n				\n				\n				\n				\n				\n				\n				\n				\n				\n				\n				\n				\n				\n				\n				Updated Event Location: South Gym at the Antioch College Wellness Center\, 240 E South College Street\, Yellow Springs\, OH 45387 \n***Please plan to enter via the rear / South Gym doors via the lot behind the Wellness Center / OK Library*** \nParking: Please note that parking is available in the lot behind the Wellness Center / OK Library. On-street parking is available on adjacent streets. Accessible passenger drop-off/pick-up is available via lot behind the Wellness Center / OK Library.
URL:https://antiochcollege.edu/event/the-world-house-choir-international-womens-day-at-the-foundry-theater-2/
LOCATION:South Gym (Wellness Center)\, 240 E South College St\, Yellow Springs\, OH\, 45387\, United States
CATEGORIES:Community & Campus Events,Featured Event,Foundry Theater,Open to the Public
ATTACH;FMTTYPE=image/png:https://antiochcollege.edu/wp-content/uploads/2025/08/WHC-logo.png
END:VEVENT
BEGIN:VEVENT
DTSTART;TZID=America/New_York:20260310T183000
DTEND;TZID=America/New_York:20260310T193000
DTSTAMP:20260422T081832
CREATED:20260113T192108Z
LAST-MODIFIED:20260225T175616Z
UID:55781-1773167400-1773171000@antiochcollege.edu
SUMMARY:Mad River Theater Works Presents: It's Tuesday\, Let's Dance
DESCRIPTION:Mad River Theater Works presents It’s Tuesday\, Let’s Dance \nCajun Basics with Sharon Leahy \nWho’s it for? Beginner to experienced dancers — come learn or practice the basics of Cajun dance.What to wear? Any smooth sole shoesWhen? Four Tuesdays: February 24th\, March 3rd\, 10th and 17th at 6:30 – 7:30 PMWhere? The Herndon Gallery at Antioch College\,805 Livermore Street\, Yellow Springs\, OH 45387Cost: $60 for the session (all 4 classes)More info: chris@madrivertheater.org \nCome dance with us — good music\, good moves\, and a great time! We’ll be getting ready to have a wonderful dance party on March 21 with the Cajun Country Revival – a magnificent authentic Cajun band being assembled by WYSO’s Linzay Young. \n			\n			\n				\n				\n				\n				\n			\n				\n				\n			\n				\n				\n				\n				\n				\n				\n				\n				\n				\n				\n				\n				\n				\n				\n				\n				\n				\n				Updated Event Location: Herndon Gallery at Antioch College\, South Hall\, 805 Livermore Street\, Yellow Springs\, OH 45387 \nParking: Please note that parking is available in the lot behind the Wellness Center / OK Library. On-street parking is available on Livermore Street and adjacent streets. Accessible passenger drop-off/pick-up is available via Morgan Place\, off of Livermore Street.
URL:https://antiochcollege.edu/event/mad-river-theater-works-presents-its-tuesday-lets-dance-7/
LOCATION:Herndon Gallery\, 805 Livermore Street\, Antioch College\, South Hall\, Yellow Springs\, OH\, 45387-1683\, United States
CATEGORIES:Community & Campus Events,Featured Event,Foundry Theater,Open to the Public
ATTACH;FMTTYPE=image/jpeg:https://antiochcollege.edu/wp-content/uploads/2025/10/sharon_rick.jpg
END:VEVENT
BEGIN:VEVENT
DTSTART;TZID=America/New_York:20260317T183000
DTEND;TZID=America/New_York:20260317T193000
DTSTAMP:20260422T081832
CREATED:20260113T192315Z
LAST-MODIFIED:20260225T175818Z
UID:55784-1773772200-1773775800@antiochcollege.edu
SUMMARY:Mad River Theater Works Presents: It's Tuesday\, Let's Dance
DESCRIPTION:Mad River Theater Works presents It’s Tuesday\, Let’s Dance \nCajun Basics with Sharon Leahy \nWho’s it for? Beginner to experienced dancers — come learn or practice the basics of Cajun dance.What to wear? Any smooth sole shoesWhen? Four Tuesdays: February 24th\, March 3rd\, 10th and 17th at 6:30 – 7:30 PMWhere? The Herndon Gallery at Antioch College\, 805 Livermore Street\, Yellow Springs\, OH 45387Cost: $60 for the session (all 4 classes)More info: chris@madrivertheater.org \nCome dance with us — good music\, good moves\, and a great time! We’ll be getting ready to have a wonderful dance party on March 21 with the Cajun Country Revival – a magnificent authentic Cajun band being assembled by WYSO’s Linzay Young. \n			\n			\n				\n				\n				\n				\n			\n				\n				\n			\n				\n				\n				\n				\n				\n				\n				\n				\n				\n				\n				\n				\n				\n				\n				\n				\n				\n				Updated Event Location: Herndon Gallery at Antioch College\, South Hall\, 805 Livermore Street\, Yellow Springs\, OH 45387 \nParking: Please note that parking is available in the lot behind the Wellness Center / OK Library. On-street parking is available on Livermore Street and adjacent streets. Accessible passenger drop-off/pick-up is available via Morgan Place\, off of Livermore Street.
URL:https://antiochcollege.edu/event/mad-river-theater-works-presents-its-tuesday-lets-dance-8/
LOCATION:Herndon Gallery\, 805 Livermore Street\, Antioch College\, South Hall\, Yellow Springs\, OH\, 45387-1683\, United States
CATEGORIES:Community & Campus Events,Featured Event,Foundry Theater,Open to the Public
ATTACH;FMTTYPE=image/jpeg:https://antiochcollege.edu/wp-content/uploads/2025/10/sharon_rick.jpg
END:VEVENT
BEGIN:VEVENT
DTSTART;TZID=America/New_York:20260319T170000
DTEND;TZID=America/New_York:20260319T180000
DTSTAMP:20260422T081832
CREATED:20260225T210706Z
LAST-MODIFIED:20260225T210830Z
UID:56734-1773939600-1773943200@antiochcollege.edu
SUMMARY:State of the College: 2026
DESCRIPTION:We’re pleased to announce Antioch’s 2026 State of the College\, taking place Thursday\, March 19\, at 5:00 p.m. EDT. The event will be held in person in McGregor 113 and virtually for those joining online. \nThis event offers a meaningful opportunity for alumni and friends to reconnect with the Antioch community while gaining insight into the College’s current priorities\, progress\, and future direction. \nMembers of the Board of Trustees and a special guest will share remarks. In addition\, President Fernandes will unveil an exciting announcement about the year ahead. \nWe hope to see you there. \nRSVP Here \n 
URL:https://antiochcollege.edu/event/state-of-the-college-2026/
LOCATION:Antioch College\, McGregor Hall\, Room 113\, 1 Morgan Place\, Yellow Springs\, OH\, 45387\, United States
CATEGORIES:Community & Campus Events,Featured Event,Open to the Public
ATTACH;FMTTYPE=image/jpeg:https://antiochcollege.edu/wp-content/uploads/2026/02/State-of-the-College-Graphic_Social_1350x1080-scaled.jpg
END:VEVENT
BEGIN:VEVENT
DTSTART;TZID=America/New_York:20260321T190000
DTEND;TZID=America/New_York:20260321T210000
DTSTAMP:20260422T081832
CREATED:20251024T202938Z
LAST-MODIFIED:20260320T204507Z
UID:55236-1774119600-1774126800@antiochcollege.edu
SUMMARY:Louisiana Byways presents the Cajun Country Revival
DESCRIPTION:Louisiana Byways presents the Cajun Country Revival\nMarch 21 @ 7PM\nWYSO Presents Cajun Dance party with The Cajun Country Revival featuring members of the Red Stick Ramblers and Foghorn String Band \nCome out and experience authentic Cajun Dancehall music at its finest\, featuring Louisiana natives Jesse Legé (of Bayou Brew)\, Linzay Young and Joel Savoy (founding members of the Red Stick Ramblers) along with Sammy Lind and Nadine Landry (of the Foghorn String Band). \nCome and hear the accordion and fiddles pouring out melodies as hot as a ladle of sauce piquante while guitar and bass lay down the driving beats that will test the structural integrity of the dance floor. Two-steps\, waltzes\, and French blues\, with a dash of Honky Tonk sprinkled in now and then mean that this music is made for dancing — but it sounds great to boot. So throw on your boots\, or whatever shoes you want to boot scoot in and get ready for a shot of Cajun joie de vivre from some of this generation’s most road-tested and genuine purveyors of American roots music from the Louisiana and Old-Time musical traditions. These folks have brought joy and jubilation to feet and ears the world over. Don’t miss this chance to see them live in Yellow Springs! \nAs an extra special treat\, a multi-week session of dance lessons in two step and waltz will precede the event\, taught by Sharon Leahy. Information and registration on the ‘It’s Tuesday\, Let’s Dance!’ series can be found here:  https://antiochcollege.edu/event/mad-river-theater-works-presents-its-tuesday-lets-dance-5/ \nTo register email chris@madrivertheater.org\n			\n				\n				\n				\n				\n				Tickets will be available at the door of the First Presbyterian Church starting @ 6:30pm on 3/21 \nWestminster Hall\, First Presbyterian Church314 Xenia Ave\, Yellow Springs\, OH 45387 \n			\n				Get Tickets\n			\n				Season Ticket Packages\n			\n			\n				\n				\n				\n				\n			\n				\n				\n			\n				\n				\n				\n				\n				\n				\n				\n				\n				\n				\n				\n				\n				\n				\n				\n				\n				\n				Updated Event Location:  \nWestminster Hall\, First Presbyterian Church314 Xenia Ave\, Yellow Springs\, OH 45387
URL:https://antiochcollege.edu/event/louisiana-byways-presents-the-cajun-country-revival-at-the-foundry-theater/
LOCATION:Westminster Hall\, First Presbyterian Church 314 Xenia Ave\, Yellow Springs\, OH 45387\, 314 Xenia Ave\, Yellow Springs\, 45387\, United States
CATEGORIES:Community & Campus Events,Featured Event,Foundry Theater,Open to the Public
ATTACH;FMTTYPE=image/webp:https://antiochcollege.edu/wp-content/uploads/2025/10/louisiana-byways-logo.webp
END:VEVENT
BEGIN:VEVENT
DTSTART;TZID=America/New_York:20260324T190000
DTEND;TZID=America/New_York:20260324T210000
DTSTAMP:20260422T081832
CREATED:20260303T191056Z
LAST-MODIFIED:20260303T191102Z
UID:56975-1774378800-1774386000@antiochcollege.edu
SUMMARY:Sam Amidon
DESCRIPTION:Sam Amidon is a singer and multi-instrumentalist (banjo\, guitar\, fiddle) from Vermont\, US\, now based in London\, England. His new album “Salt River” was released by River Lea / Rough Trade on 24th January 2025. He has previously released seven acclaimed albums of songs on Bedroom Community and Nonesuch Records. \nAmidon’s material for these albums often consists of adventurous reworkings of traditional American ballads\, hymns and work songs\, with the New York Times writing that Amidon “transforms all of the songs\, changing their colors and loading them with trapdoors.” The albums have been deeply collaborative in nature\, inviting contributions from musicians such as composer Nico Muhly\, guitarist Bill Frisell\, and on “Salt River\,” saxophonist/producer Sam Gendel. \nThe release of “Salt River” comes on the heels of Sam’s work with choreographer Michael Keegan Dolan on the dance theatre music show Nobodaddy for which Sam was nominated as “Outstanding Creative Contribution” by the National Dance Awards Critics Circle in the UK. He also worked on the recently released film “History of Sound\,” starring Paul Mescal and Josh O’Connor\, wherein Amidon served as a music advisor and performer. The film had its premiere at the 2025 Cannes Film Festival.  \nPreviously\, Sam Amidon has recorded or performed as a guest artist with musicians such as Bon Iver\, The National\, The Blind Boys of Alabama\, The Gloaming\, Lonnie Holley\, Manami Kakudo\, Jacob Collier\, Marc Ribot\, and Beth Orton\, among many others. He has appeared internationally as a soloist with ensembles such as the Kronos Quartet\, The Aurora Orchestra\, the Australian Chamber Orchestra with Pekka Kuusisto\, The Scottish Chamber Orchestra\, The Oregon Symphony\, Roomful of Teeth\, and the Britten Sinfonia.  \n			\n				Get Tickets\n			\n				Season Ticket Packages\n			\n			\n				\n				\n				\n				\n			\n				\n				\n			\n				\n				\n				\n				\n				\n				\n				\n				\n				\n				\n				\n				\n				\n				\n				\n				\n				\n				Updated Event Location: Herndon Gallery at Antioch College\, South Hall\, 805 Livermore Street\, Yellow Springs\, OH 45387 \nParking: Please note that parking is available in the lot behind the Wellness Center / OK Library. On-street parking is available on Livermore Street and adjacent streets. Accessible passenger drop-off/pick-up is available via Morgan Place\, off of Livermore Street.
URL:https://antiochcollege.edu/event/sam-amidon/
LOCATION:Herndon Gallery\, 805 Livermore Street\, Antioch College\, South Hall\, Yellow Springs\, OH\, 45387-1683\, United States
CATEGORIES:Community & Campus Events,Featured Event,Foundry Theater,Herndon Gallery,Open to the Public
ATTACH;FMTTYPE=image/jpeg:https://antiochcollege.edu/wp-content/uploads/2026/03/E5A2453_Sam-Amidon_101224L_Steve-Gullick-1-2-scaled.jpg
END:VEVENT
BEGIN:VEVENT
DTSTART;TZID=America/New_York:20260329T190000
DTEND;TZID=America/New_York:20260329T210000
DTSTAMP:20260422T081832
CREATED:20250812T173027Z
LAST-MODIFIED:20260325T205323Z
UID:54594-1774810800-1774818000@antiochcollege.edu
SUMMARY:Le Vent Du Nord
DESCRIPTION:Location:Westminster Hall\, First Presbyterian Church314 Xenia Ave\, Yellow Springs\, OH 45387 \n			\n				\n				\n				\n				\n				The award winning and highly acclaimed band Le Vent du Nord is a leading force in Quebec’s progressive francophone folk movement. The group’s vast repertoire draws from both traditional sources and original compositions\, while enhancing its hard-driving soulful music (rooted in the Celtic diaspora) with a broad range of global influences. On stage\, these 5 musicians create intense\, joyful and dynamic live performances that expand the bounds of tradition in striking global directions. This is the modern sound of tradition\, a music of the here and now.  \n			\n				Get Tickets\n			\n				Season Ticket Packages
URL:https://antiochcollege.edu/event/le-vent-du-nord-at-the-foundry-theater/
LOCATION:Westminster Hall\, First Presbyterian Church 314 Xenia Ave\, Yellow Springs\, OH 45387\, 314 Xenia Ave\, Yellow Springs\, 45387\, United States
CATEGORIES:Community & Campus Events,Featured Event,Foundry Theater,Open to the Public
ATTACH;FMTTYPE=image/jpeg:https://antiochcollege.edu/wp-content/uploads/2025/08/VDN-2025_0582-HR_RELIEF_1x1-scaled.jpg
END:VEVENT
END:VCALENDAR