BEGIN:VCALENDAR
VERSION:2.0
PRODID:-//Antioch College - ECPv6.15.17.1//NONSGML v1.0//EN
CALSCALE:GREGORIAN
METHOD:PUBLISH
X-ORIGINAL-URL:https://antiochcollege.edu
X-WR-CALDESC:Events for Antioch College
REFRESH-INTERVAL;VALUE=DURATION:PT1H
X-Robots-Tag:noindex
X-PUBLISHED-TTL:PT1H
BEGIN:VTIMEZONE
TZID:America/New_York
BEGIN:DAYLIGHT
TZOFFSETFROM:-0500
TZOFFSETTO:-0400
TZNAME:EDT
DTSTART:20240310T070000
END:DAYLIGHT
BEGIN:STANDARD
TZOFFSETFROM:-0400
TZOFFSETTO:-0500
TZNAME:EST
DTSTART:20241103T060000
END:STANDARD
BEGIN:DAYLIGHT
TZOFFSETFROM:-0500
TZOFFSETTO:-0400
TZNAME:EDT
DTSTART:20250309T070000
END:DAYLIGHT
BEGIN:STANDARD
TZOFFSETFROM:-0400
TZOFFSETTO:-0500
TZNAME:EST
DTSTART:20251102T060000
END:STANDARD
BEGIN:DAYLIGHT
TZOFFSETFROM:-0500
TZOFFSETTO:-0400
TZNAME:EDT
DTSTART:20260308T070000
END:DAYLIGHT
BEGIN:STANDARD
TZOFFSETFROM:-0400
TZOFFSETTO:-0500
TZNAME:EST
DTSTART:20261101T060000
END:STANDARD
END:VTIMEZONE
BEGIN:VEVENT
DTSTART;TZID=America/New_York:20251009T150000
DTEND;TZID=America/New_York:20251009T200000
DTSTAMP:20260423T121428
CREATED:20251003T183526Z
LAST-MODIFIED:20251003T183908Z
UID:55098-1760022000-1760040000@antiochcollege.edu
SUMMARY:A Community Healing Affair at the Antioch College Wellness Center
DESCRIPTION:Join Green County Public Health as well as the Coretta Scott King Center\, Student Life\, and the Wellness Center at Antioch College for “A Community Healing Affair\,” scheduled to take place on Thursday\, October 9\, 2025 from 3:00-8:00 PM in the Wellness Center at Antioch College.\n \n\nThis event brings together community members\, health professionals\, advocates\, and service providers to offer a wide range of free resources\, workshops\, and activities focused on wellness\, safety\, and empowerment. This event is being supported in part by a generous grant from the Yellow Springs Community Foundation.\n \n\nEvent Schedule: \n\n3:00 PM – Doors Open\n3:30 – 4:15 PM – Yin Yoga Workshop\n4:30 – 5:00 PM – West African Dance Workshop\n5:30 – 7:00 PM – Panel Discussion:\n\n“From Harm to Healing: A Freedom Forum on Domestic Violence Prevention and Healthy Relationships”\n\nPanelist:\n\nJacqueline Gaines\, Esq.\, Antioch College\nSamantha Webb\, RN\, Greene County Public Health\nAnna Beckloff\, MSW\, LSW\, OCPSA\, Violence Free Futures\nLaura Niehaus\, BRAVO (Buckeye Region Anti-Violence Organization)\n\n\n\n\n\n\n7:00 PM – Jiu Jitsu Self-Defense Class\n8:00 PM – Event Closes\n\n\n \n\nList of Vendors: \n\nSafe Communities Green County Public Health\nHarm Reduction Green County Public Health\nHIV Prevention/STI education Green County Public Health\nYellow Springs Senior Center\nCareSource\nGreene County Educational Service Center – Early Childhood Mental Health Resources and Parenting Resources.\nViolence Free Futures\nMosaic/Equitas Health\nBuckeye Region Anti-Violence Organization (BRAVO)\nProviding for Women\nHaven\nCareForth\nAnd more to be added…\n\n\n\nFood Trucks: \n\nTaste This Mobile Eatery\nSalsa Brava\n\n\n \n\nResources and Information Available: \n\nFree HIV Testing\nDomestic Violence Support\nNarcan Distribution & Overdose Prevention\nNursing & Family Assistance\nMental & Physical Healthcare Resources\nHousing & Food Support\nWellness & Community Healing Services\nAnd much more!
URL:https://antiochcollege.edu/event/a-community-healing-affair-at-the-antioch-college-wellness-center/
LOCATION:Wellness Center\, 240 E South College St\, Yellow Springs\, OH\, 45387\, United States
CATEGORIES:Community & Campus Events,Coretta Scott King Center,Featured Event,Open to the Public,Public Programs,Student Affairs & Residence Life,Wellness Center
ATTACH;FMTTYPE=image/png:https://antiochcollege.edu/wp-content/uploads/2025/10/CommunityHealingAffairFlyer_Vers2.png
END:VEVENT
END:VCALENDAR