BEGIN:VCALENDAR
VERSION:2.0
PRODID:-//Antioch College - ECPv6.15.17.1//NONSGML v1.0//EN
CALSCALE:GREGORIAN
METHOD:PUBLISH
X-WR-CALNAME:Antioch College
X-ORIGINAL-URL:https://antiochcollege.edu
X-WR-CALDESC:Events for Antioch College
REFRESH-INTERVAL;VALUE=DURATION:PT1H
X-Robots-Tag:noindex
X-PUBLISHED-TTL:PT1H
BEGIN:VTIMEZONE
TZID:America/New_York
BEGIN:DAYLIGHT
TZOFFSETFROM:-0500
TZOFFSETTO:-0400
TZNAME:EDT
DTSTART:20250309T070000
END:DAYLIGHT
BEGIN:STANDARD
TZOFFSETFROM:-0400
TZOFFSETTO:-0500
TZNAME:EST
DTSTART:20251102T060000
END:STANDARD
BEGIN:DAYLIGHT
TZOFFSETFROM:-0500
TZOFFSETTO:-0400
TZNAME:EDT
DTSTART:20260308T070000
END:DAYLIGHT
BEGIN:STANDARD
TZOFFSETFROM:-0400
TZOFFSETTO:-0500
TZNAME:EST
DTSTART:20261101T060000
END:STANDARD
BEGIN:DAYLIGHT
TZOFFSETFROM:-0500
TZOFFSETTO:-0400
TZNAME:EDT
DTSTART:20270314T070000
END:DAYLIGHT
BEGIN:STANDARD
TZOFFSETFROM:-0400
TZOFFSETTO:-0500
TZNAME:EST
DTSTART:20271107T060000
END:STANDARD
END:VTIMEZONE
BEGIN:VEVENT
DTSTART;TZID=America/New_York:20260228T190000
DTEND;TZID=America/New_York:20260228T210000
DTSTAMP:20260422T095633
CREATED:20260106T161829Z
LAST-MODIFIED:20260216T184708Z
UID:55703-1772305200-1772312400@antiochcollege.edu
SUMMARY:Bill MacKay
DESCRIPTION:“…there’s such a warmth to the way by which this Chicago-based singer-songwriter crafts his music it supersedes the Avant Garde. And his brilliant new LP\, Locust Land\, is no exception.” – Rock and Roll Globe  \n Bill MacKay is a guitarist\, improviser\, composer\, and singer based in Chicago.  \nAn accomplished collaborator with projects that include Katinka Kleijn (Stir\, 2019)\, Nathan Bowles (Keys\, 2021)\, and Ryley Walker (SpiderBeetleBee\, 2017)\, MacKay is also a solo artist creating multi-dimensional works such as Esker (2017)\, Fountain Fire (2019) Scarf (2020)\, and Locust Land (2024)\, all released on Drag City Records.  \nMacKay’s guitar mastery and songwriting were also highlighted by his commissioned score for the short film Flight Logs in 2019 (Chicago Film Archives).  \nHis book Movie House/Sala de Cine\, released in 2022\, appeared in an English/Spanish edition translated by the author. MacKay is also a poet\, visual artist and polyglot\, and is a member of both the avant-garde rock outfit Black Duck (with Douglas McCombs) and the experimental groove-drone project BCMC (with Cooper Crain).  \nAmong other publications\, his work has received praise in the Washington Post\, Chicago Reader\, New York Times\, Mojo\, Uncut\, Downbeat\, Paste\, Pitchfork\, and NPR.\nchael Butler\, Cincinnati experimental ensemble Knee Play\, and Indianapolis-based production company NoExit Performance.\n			\n				\n				\n				\n				\n				\n			\n				\n				\n				\n				\n				Opening the show is Neutrals \nNeutrals is a percussion duo based in Dayton\, OH. Formed in 2016 by Evan Miller and Andrew Seivert\, the duo combines their Rust Belt underground upbringings and classical training into a contemporary ensemble firmly grounded by their Midwestern roots. Equal parts written works and electroacoustic improvisation\, Neutrals performs established percussion duo repertoire\, drone/noise-based improvised music\, and above all\, commissioned works by living composers. Past and current collaborators include composers Rob Funkhouser\, Nate May\, Hugh Sheehan\, and Brooks Frederickson\, percussionist Aaron Michael Butler\, Cincinnati experimental ensemble Knee Play\, and Indianapolis-based production company NoExit Performance.\n			\n				Get Tickets\n			\n				Season Ticket Packages\n			\n			\n				\n				\n				\n				\n			\n				\n				\n			\n				\n				\n				\n				\n				\n				\n				\n				\n				\n				\n				\n				\n				\n				\n				\n				\n				\n				Updated Event Location: Herndon Gallery at Antioch College\, South Hall\, 805 Livermore Street\, Yellow Springs\, OH 45387 \nParking: Please note that parking is available in the lot behind the Wellness Center / OK Library. On-street parking is available on Livermore Street and adjacent streets. Accessible passenger drop-off/pick-up is available via Morgan Place\, off of Livermore Street. 
URL:https://antiochcollege.edu/event/bill-mackay-at-the-foundry-theater/
LOCATION:Herndon Gallery\, 805 Livermore Street\, Antioch College\, South Hall\, Yellow Springs\, OH\, 45387-1683\, United States
CATEGORIES:Community & Campus Events,Featured Event,Foundry Theater,Herndon Gallery,Open to the Public
ATTACH;FMTTYPE=image/webp:https://antiochcollege.edu/wp-content/uploads/2026/01/bill-mackay-2.webp
END:VEVENT
END:VCALENDAR