BEGIN:VCALENDAR
VERSION:2.0
PRODID:-//Antioch College - ECPv6.15.17.1//NONSGML v1.0//EN
CALSCALE:GREGORIAN
METHOD:PUBLISH
X-WR-CALNAME:Antioch College
X-ORIGINAL-URL:https://antiochcollege.edu
X-WR-CALDESC:Events for Antioch College
REFRESH-INTERVAL;VALUE=DURATION:PT1H
X-Robots-Tag:noindex
X-PUBLISHED-TTL:PT1H
BEGIN:VTIMEZONE
TZID:America/New_York
BEGIN:DAYLIGHT
TZOFFSETFROM:-0500
TZOFFSETTO:-0400
TZNAME:EDT
DTSTART:20250309T070000
END:DAYLIGHT
BEGIN:STANDARD
TZOFFSETFROM:-0400
TZOFFSETTO:-0500
TZNAME:EST
DTSTART:20251102T060000
END:STANDARD
BEGIN:DAYLIGHT
TZOFFSETFROM:-0500
TZOFFSETTO:-0400
TZNAME:EDT
DTSTART:20260308T070000
END:DAYLIGHT
BEGIN:STANDARD
TZOFFSETFROM:-0400
TZOFFSETTO:-0500
TZNAME:EST
DTSTART:20261101T060000
END:STANDARD
BEGIN:DAYLIGHT
TZOFFSETFROM:-0500
TZOFFSETTO:-0400
TZNAME:EDT
DTSTART:20270314T070000
END:DAYLIGHT
BEGIN:STANDARD
TZOFFSETFROM:-0400
TZOFFSETTO:-0500
TZNAME:EST
DTSTART:20271107T060000
END:STANDARD
END:VTIMEZONE
BEGIN:VEVENT
DTSTART;TZID=America/New_York:20260321T190000
DTEND;TZID=America/New_York:20260321T210000
DTSTAMP:20260420T115758
CREATED:20251024T202938Z
LAST-MODIFIED:20260320T204507Z
UID:55236-1774119600-1774126800@antiochcollege.edu
SUMMARY:Louisiana Byways presents the Cajun Country Revival
DESCRIPTION:Louisiana Byways presents the Cajun Country Revival\nMarch 21 @ 7PM\nWYSO Presents Cajun Dance party with The Cajun Country Revival featuring members of the Red Stick Ramblers and Foghorn String Band \nCome out and experience authentic Cajun Dancehall music at its finest\, featuring Louisiana natives Jesse Legé (of Bayou Brew)\, Linzay Young and Joel Savoy (founding members of the Red Stick Ramblers) along with Sammy Lind and Nadine Landry (of the Foghorn String Band). \nCome and hear the accordion and fiddles pouring out melodies as hot as a ladle of sauce piquante while guitar and bass lay down the driving beats that will test the structural integrity of the dance floor. Two-steps\, waltzes\, and French blues\, with a dash of Honky Tonk sprinkled in now and then mean that this music is made for dancing — but it sounds great to boot. So throw on your boots\, or whatever shoes you want to boot scoot in and get ready for a shot of Cajun joie de vivre from some of this generation’s most road-tested and genuine purveyors of American roots music from the Louisiana and Old-Time musical traditions. These folks have brought joy and jubilation to feet and ears the world over. Don’t miss this chance to see them live in Yellow Springs! \nAs an extra special treat\, a multi-week session of dance lessons in two step and waltz will precede the event\, taught by Sharon Leahy. Information and registration on the ‘It’s Tuesday\, Let’s Dance!’ series can be found here:  https://antiochcollege.edu/event/mad-river-theater-works-presents-its-tuesday-lets-dance-5/ \nTo register email chris@madrivertheater.org\n			\n				\n				\n				\n				\n				Tickets will be available at the door of the First Presbyterian Church starting @ 6:30pm on 3/21 \nWestminster Hall\, First Presbyterian Church314 Xenia Ave\, Yellow Springs\, OH 45387 \n			\n				Get Tickets\n			\n				Season Ticket Packages\n			\n			\n				\n				\n				\n				\n			\n				\n				\n			\n				\n				\n				\n				\n				\n				\n				\n				\n				\n				\n				\n				\n				\n				\n				\n				\n				\n				Updated Event Location:  \nWestminster Hall\, First Presbyterian Church314 Xenia Ave\, Yellow Springs\, OH 45387
URL:https://antiochcollege.edu/event/louisiana-byways-presents-the-cajun-country-revival-at-the-foundry-theater/
LOCATION:Westminster Hall\, First Presbyterian Church 314 Xenia Ave\, Yellow Springs\, OH 45387\, 314 Xenia Ave\, Yellow Springs\, 45387\, United States
CATEGORIES:Community & Campus Events,Featured Event,Foundry Theater,Open to the Public
ATTACH;FMTTYPE=image/webp:https://antiochcollege.edu/wp-content/uploads/2025/10/louisiana-byways-logo.webp
END:VEVENT
END:VCALENDAR