BEGIN:VCALENDAR
VERSION:2.0
PRODID:-//Antioch College - ECPv6.15.17.1//NONSGML v1.0//EN
CALSCALE:GREGORIAN
METHOD:PUBLISH
X-WR-CALNAME:Antioch College
X-ORIGINAL-URL:https://antiochcollege.edu
X-WR-CALDESC:Events for Antioch College
REFRESH-INTERVAL;VALUE=DURATION:PT1H
X-Robots-Tag:noindex
X-PUBLISHED-TTL:PT1H
BEGIN:VTIMEZONE
TZID:America/New_York
BEGIN:DAYLIGHT
TZOFFSETFROM:-0500
TZOFFSETTO:-0400
TZNAME:EDT
DTSTART:20250309T070000
END:DAYLIGHT
BEGIN:STANDARD
TZOFFSETFROM:-0400
TZOFFSETTO:-0500
TZNAME:EST
DTSTART:20251102T060000
END:STANDARD
BEGIN:DAYLIGHT
TZOFFSETFROM:-0500
TZOFFSETTO:-0400
TZNAME:EDT
DTSTART:20260308T070000
END:DAYLIGHT
BEGIN:STANDARD
TZOFFSETFROM:-0400
TZOFFSETTO:-0500
TZNAME:EST
DTSTART:20261101T060000
END:STANDARD
BEGIN:DAYLIGHT
TZOFFSETFROM:-0500
TZOFFSETTO:-0400
TZNAME:EDT
DTSTART:20270314T070000
END:DAYLIGHT
BEGIN:STANDARD
TZOFFSETFROM:-0400
TZOFFSETTO:-0500
TZNAME:EST
DTSTART:20271107T060000
END:STANDARD
END:VTIMEZONE
BEGIN:VEVENT
DTSTART;TZID=America/New_York:20260503T120000
DTEND;TZID=America/New_York:20260503T133000
DTSTAMP:20260420T133048
CREATED:20260414T180509Z
LAST-MODIFIED:20260414T180509Z
UID:57888-1777809600-1777815000@antiochcollege.edu
SUMMARY:Sunday Funday at the Foundry & on the Farm
DESCRIPTION:You’re invited to gather for a family-friendly joyful spring Sunday filled with fresh flavors\, community\, and celebration at the Foundry Theater and on the Antioch Farm! \nJoin us for Sunday Funday\, a special pre-performance experience honoring the close of the Foundry’s 2025–2026 season and tours of Antioch Farm commemoration of the kickoff of National Herb Week.  \nIn celebration of the International Herb Association’s 2026 Herb of the Year—turmeric—we’ll feature a vibrant\, farm-forward menu of light bites fresh from Antioch Kitchens highlighting this nourishing root herb\, along with refreshing herb-infused mocktails crafted with ingredients from the Farm.  \nThe afternoon continues with the Foundry’s final performance of the season at 2:00 PM\, tickets for which are required. Visit the Foundry Theater website (link) should you desire to stay for the performance and you need to acquire tickets. \nRSVP today using this form: https://secure.qgiv.com/for/idksv2/event/sundayfunday/
URL:https://antiochcollege.edu/event/sunday-funday-foundry-farm/
LOCATION:OH
CATEGORIES:Admitted Student Events,Community & Campus Events,Featured Event
ATTACH;FMTTYPE=image/png:https://antiochcollege.edu/wp-content/uploads/2026/04/Screenshot-2026-04-14-065319.png
ORGANIZER;CN="Alumni Relations":MAILTO:alumni@antiochcollege.edu
END:VEVENT
BEGIN:VEVENT
DTSTART;VALUE=DATE:20260508
DTEND;VALUE=DATE:20260510
DTSTAMP:20260420T133048
CREATED:20260318T232542Z
LAST-MODIFIED:20260318T233208Z
UID:57351-1778198400-1778371199@antiochcollege.edu
SUMMARY:The Antioch School Spring Musical at the Foundry Theater
DESCRIPTION:Free and Open to the Public\nFriday\, May 8 @ 7pm\nSaturday\, May 9 @ 2pm \nAt The Antioch School\, education is centered on the belief that children learn best through play\, curiosity\, and self-discovery.   Childhood is seen as a uniquely wonderful time in our lives. It is celebrated and respected\, rather than treated as training for adulthood. \nWe prioritize hands-on experiences that encourage independent thinking\, creativity\, and problem-solving\, allowing children to explore at their own pace.   Our holistic learning approach integrates academic subjects across the curriculum and values emotional\, physical\, and intellectual growth equally\, recognizing that all forms of intelligence are important. \nEvery Spring\, the Antioch School Older Group classroom produces a unique and original student-led musical.  This year’s production is Harry Potter and the Foundry is proud to host!
URL:https://antiochcollege.edu/event/antioch-school-spring-musical-at-the-foundry-theater/
LOCATION:Foundry Theater\, 920 Corry St\, Yellow Springs\, OH\, 45387\, United States
CATEGORIES:Community & Campus Events,Featured Event,Foundry Theater,Open to the Public
ATTACH;FMTTYPE=image/jpeg:https://antiochcollege.edu/wp-content/uploads/2026/03/ANS-Logocolor-copy.jpg
END:VEVENT
BEGIN:VEVENT
DTSTART;TZID=America/New_York:20260516T190000
DTEND;TZID=America/New_York:20260516T210000
DTSTAMP:20260420T133048
CREATED:20260319T165834Z
LAST-MODIFIED:20260323T202244Z
UID:57394-1778958000-1778965200@antiochcollege.edu
SUMMARY:Mdou Moctar at the Foundry Theater
DESCRIPTION:Mdou Moctar – Special Solo Show\n \nSaturday\, May 16\n \n\nProdigious Tuareg guitarist and songwriter Mdou Moctar boldly reforges contemporary Saharan music and “rock music“ by melding Eddie Van Halen pyrotechnics\, full-blast noise and guitar shredding\, field recordings\, drums rhythms\, poetic meditations on love\, religion\, women’s rights\, inequality and Western Africa’s exploitation at the hands of colonial powers. \nMdou Moctar’s home is Agadez\, a desert village in rural Niger. Inspired by YouTube videos of Eddie Van Halen’s six string techniques and traditional Tuareg melodies\, he mastered the guitar which he himself built and created his own burning style.  A born charismatic\, Mdou went on to tell his story as an aspiring artist by writing\, producing & starring in the first Tuareg language film: a remake of Purple Rain called Akounak Tedalat Taha Tazoughai –  which translates to “Rain The Color Of Blue With A Little Red In It”\, winning the approval of his family and his community. The word and the sound travelled across West Africa via mobile phone data cards\, a popular form of local music distribution. Grueling DIY world tours and albums on the independent US label Sahel Sounds followed\, including 2019’s landmark Ilana: The Creator album that earned Mdou Moctar an ecstatic international audience. \nThe Foundry is excited to present this special intimate and solo show with Mdou\, marking the close of our 2025-2026 Season. Join us! \n\n			\n				Get Tickets\n			\n				Season Ticket Packages
URL:https://antiochcollege.edu/event/mdou-moctar-at-the-foundry-theater/
LOCATION:Foundry Theater\, 920 Corry St\, Yellow Springs\, OH\, 45387\, United States
CATEGORIES:Community & Campus Events,Featured Event,Foundry Theater,Open to the Public
ATTACH;FMTTYPE=image/jpeg:https://antiochcollege.edu/wp-content/uploads/2026/03/MDOU-SOLO-PHOTO.jpg
END:VEVENT
BEGIN:VEVENT
DTSTART;VALUE=DATE:20260601
DTEND;VALUE=DATE:20260613
DTSTAMP:20260420T133048
CREATED:20260318T234400Z
LAST-MODIFIED:20260318T234405Z
UID:57371-1780272000-1781308799@antiochcollege.edu
SUMMARY:Mad River Theater Works Theater Camp
DESCRIPTION:MRTW Theater Camp\nJune 1 – June 12. \nFinal Performance on June 12 @ 7PM\n \nMad River Theater Works\, with the support of the Yellow Springs Community Foundation and the Ohio Arts Council\, joyfully invites youth between the ages of 8-17 to participate in a two-week Summer Theater Workshop this June. We will explore theater arts skills\, create an original play with music and put it on its feet in front of a hometown audience. Join us!\n \nInformation and registration form can be found here:\nhttps://madrivertheater.com/new-page-1
URL:https://antiochcollege.edu/event/mad-river-theater-works-theater-camp/
LOCATION:Foundry Theater\, 920 Corry St\, Yellow Springs\, OH\, 45387\, United States
CATEGORIES:Community & Campus Events,Featured Event,Foundry Theater,Open to the Public
ATTACH;FMTTYPE=image/gif:https://antiochcollege.edu/wp-content/uploads/2026/03/IKC201308-MRTW-Logo-BlackYellow-NoTagline-transp.gif
END:VEVENT
BEGIN:VEVENT
DTSTART;TZID=America/New_York:20260605T190000
DTEND;TZID=America/New_York:20260605T210000
DTSTAMP:20260420T133048
CREATED:20260318T233846Z
LAST-MODIFIED:20260331T150422Z
UID:57362-1780686000-1780693200@antiochcollege.edu
SUMMARY:YS Speaker Series: Defining American in the Heartland: A Conversation Between Jose Antonio Vargas and William Lopez at the Foundry Theater
DESCRIPTION:Defining American in the Heartland: A Conversation Between Jose Antonio Vargas and William Lopez\n \nJose Antonio Vargas is a Pulitzer Prize-winning journalist\, Emmy-nominated filmmaker\, and Tony-nominated theatrical producer. \nA leading voice for the human rights of immigrants\, he founded the non-profit immigrant storytelling organization Define American\, twice named one of the World’s Most Innovative Companies by Fast Company\, and explores all facets of immigration as host of its YouTube show and podcast Define American with Jose Antonio Vargas. He is also a co-founder of 1587 Sneakers\, the world’s first Asian American sneaker brand. \nHis best-selling memoir\, Dear America: Notes of an Undocumented Citizen\, was published by HarperCollins in 2018. An updated edition with new material for living in Trump’s America was released in June 2025. His second book\, due out next year\, will examine how diverse immigrant populations are upending America’s foundational Black and White racial binary. He also has a third book in the works about global migration.Bill Lopez and Jose Antonio Vargas\n \nWilliam Lopez is a Clinical Associate Professor at the University of Michigan School of Public Health and Faculty Associate in the Latina/o Studies Program. He is the author of Raiding the Heartland: An American Story of Deportation and Resistance\, a follow-up to his award-winning first book\, Separated: Family and Community in the Aftermath of an Immigration Raid. In addition to his academic research on the public health impacts of deportation\, Dr. Lopez regularly contributes to the public discussions on deportation\, diversity\, and Latino culture in venues such as the Washington Post\, CNN\, San Antonio Express News\, Detroit Free Press\, and Truthout. \n			\n				Get Tickets\n			\n				Season Ticket Packages
URL:https://antiochcollege.edu/event/ys-speaker-series-defining-american-in-the-heartland-a-conversation-between-jose-antonio-vargas-and-william-lopez-at-the-foundry-theater/
LOCATION:Foundry Theater\, 920 Corry St\, Yellow Springs\, OH\, 45387\, United States
CATEGORIES:Community & Campus Events,Featured Event,Foundry Theater,Open to the Public
ATTACH;FMTTYPE=image/jpeg:https://antiochcollege.edu/wp-content/uploads/2026/03/raiding-the-heartland.jpg
END:VEVENT
BEGIN:VEVENT
DTSTART;VALUE=DATE:20260706
DTEND;VALUE=DATE:20260711
DTSTAMP:20260420T133048
CREATED:20260205T110848Z
LAST-MODIFIED:20260330T150414Z
UID:56073-1783296000-1783727999@antiochcollege.edu
SUMMARY:Roots & Wings Youth Camp
DESCRIPTION:ROOTS & WINGS YOUTH CAMP: Planting life skills for grounded and confident growth \nA summer day camp filled with Farm Adventures\, Fitness Fun\, Performing Arts\, Culinary Activities\, Social Awareness\, Creative Writing & Crafts & Games. \nFor: Recommended for students entering 2nd grade – 6th grade\, Fall 2025When: Monday\, July 6 – Friday\, July 10\, 2026\, 9am-4pm DailyLocation: Wellness Center at Antioch College\, 240 E South College St\, Yellow Springs\, OH 45387\, (937) 319-0100 (Wellness Center)Contact: Kathy Kern Ross\, Wellness Center Director\, kross@antiochcollege.edu \n Regular Rate: $300.00 per camper – Early Bird Discount of $25 off through May 1stSibling / Multi-Family Member Discount: $25.00 off second and each additional camper \nAntioch College Faculty and Staff – use your PROMO code for $25.00 off! \n			\n				Register
URL:https://antiochcollege.edu/event/roots-wings-youth-camp-2/
LOCATION:OH
CATEGORIES:Community & Campus Events,Featured Event,Open to the Public,Public Programs,Wellness Center
ATTACH;FMTTYPE=application/pdf:https://antiochcollege.edu/wp-content/uploads/2026/02/2026-Roots-Wings-Summer-Camp-Flyer_02.17.26-2.pdf
END:VEVENT
BEGIN:VEVENT
DTSTART;TZID=America/New_York:20260714T190000
DTEND;TZID=America/New_York:20260714T210000
DTSTAMP:20260420T133048
CREATED:20260309T173427Z
LAST-MODIFIED:20260309T174118Z
UID:57177-1784055600-1784062800@antiochcollege.edu
SUMMARY:Horse Lords at the Foundry Theater
DESCRIPTION:Horse Lords\nAs an instrumental unit\, Horse Lords rely on a collective voice and focus to provide the band’s core strength; a process enriched by their disparate musical interests. The quartet\, formed in 2010\, embraces Renaissance counterpoint\, covers composer Julius Eastman\, plays instruments specially fretted for microtonality\, and organizes its music through polyrhythmic matrices. The ingenious machinery of their music is humanized with exploration and passion. \nGuitarist Owen Gardner and saxophonist / percussionist Andrew Bernstein met in the ‘00s at Goucher College in suburban Baltimore—the former steeped in global folk musics and experimental music\, the latter a budding composer. As members of the rich Baltimore music scene\, notably the band Teeth Mountain\, they met bassist Max Eilbacher\, who has subsequently blazed a path in electroacoustic music\, and drummer Sam Haberman. \nFrom the beginning\, Horse Lords have played music defined by repetition and complexity\, often at length\, and presented it in ways that telegraph their concern with questioning social and political norms. “Conceptually\, our music is always interested in the tension between the aesthetic\, the political\, and the material domains of art\, and the political muteness of instrumental music\,” the band says. “How can we imbue wordless music with a radical political message? The whole project of Horse Lords is an attempt to answer this question\, and all of our decisions\, musical and otherwise\, are informed by it.” \n			\n				Get Tickets\n			\n				Season Ticket Packages
URL:https://antiochcollege.edu/event/horse-lords-at-the-foundry-theater/
LOCATION:Foundry Theater\, 920 Corry St\, Yellow Springs\, OH\, 45387\, United States
CATEGORIES:Community & Campus Events,Featured Event,Foundry Theater,Open to the Public
ATTACH;FMTTYPE=image/jpeg:https://antiochcollege.edu/wp-content/uploads/2026/03/Horse-Lords-2.jpg
END:VEVENT
END:VCALENDAR