BEGIN:VCALENDAR
VERSION:2.0
PRODID:-//Antioch College - ECPv6.15.17.1//NONSGML v1.0//EN
CALSCALE:GREGORIAN
METHOD:PUBLISH
X-ORIGINAL-URL:https://antiochcollege.edu
X-WR-CALDESC:Events for Antioch College
REFRESH-INTERVAL;VALUE=DURATION:PT1H
X-Robots-Tag:noindex
X-PUBLISHED-TTL:PT1H
BEGIN:VTIMEZONE
TZID:America/New_York
BEGIN:DAYLIGHT
TZOFFSETFROM:-0500
TZOFFSETTO:-0400
TZNAME:EDT
DTSTART:20250309T070000
END:DAYLIGHT
BEGIN:STANDARD
TZOFFSETFROM:-0400
TZOFFSETTO:-0500
TZNAME:EST
DTSTART:20251102T060000
END:STANDARD
BEGIN:DAYLIGHT
TZOFFSETFROM:-0500
TZOFFSETTO:-0400
TZNAME:EDT
DTSTART:20260308T070000
END:DAYLIGHT
BEGIN:STANDARD
TZOFFSETFROM:-0400
TZOFFSETTO:-0500
TZNAME:EST
DTSTART:20261101T060000
END:STANDARD
BEGIN:DAYLIGHT
TZOFFSETFROM:-0500
TZOFFSETTO:-0400
TZNAME:EDT
DTSTART:20270314T070000
END:DAYLIGHT
BEGIN:STANDARD
TZOFFSETFROM:-0400
TZOFFSETTO:-0500
TZNAME:EST
DTSTART:20271107T060000
END:STANDARD
END:VTIMEZONE
BEGIN:VEVENT
DTSTART;TZID=America/New_York:20260714T190000
DTEND;TZID=America/New_York:20260714T210000
DTSTAMP:20260420T232306
CREATED:20260309T173427Z
LAST-MODIFIED:20260309T174118Z
UID:57177-1784055600-1784062800@antiochcollege.edu
SUMMARY:Horse Lords at the Foundry Theater
DESCRIPTION:Horse Lords\nAs an instrumental unit\, Horse Lords rely on a collective voice and focus to provide the band’s core strength; a process enriched by their disparate musical interests. The quartet\, formed in 2010\, embraces Renaissance counterpoint\, covers composer Julius Eastman\, plays instruments specially fretted for microtonality\, and organizes its music through polyrhythmic matrices. The ingenious machinery of their music is humanized with exploration and passion. \nGuitarist Owen Gardner and saxophonist / percussionist Andrew Bernstein met in the ‘00s at Goucher College in suburban Baltimore—the former steeped in global folk musics and experimental music\, the latter a budding composer. As members of the rich Baltimore music scene\, notably the band Teeth Mountain\, they met bassist Max Eilbacher\, who has subsequently blazed a path in electroacoustic music\, and drummer Sam Haberman. \nFrom the beginning\, Horse Lords have played music defined by repetition and complexity\, often at length\, and presented it in ways that telegraph their concern with questioning social and political norms. “Conceptually\, our music is always interested in the tension between the aesthetic\, the political\, and the material domains of art\, and the political muteness of instrumental music\,” the band says. “How can we imbue wordless music with a radical political message? The whole project of Horse Lords is an attempt to answer this question\, and all of our decisions\, musical and otherwise\, are informed by it.” \n			\n				Get Tickets\n			\n				Season Ticket Packages
URL:https://antiochcollege.edu/event/horse-lords-at-the-foundry-theater/
LOCATION:Foundry Theater\, 920 Corry St\, Yellow Springs\, OH\, 45387\, United States
CATEGORIES:Community & Campus Events,Featured Event,Foundry Theater,Open to the Public
ATTACH;FMTTYPE=image/jpeg:https://antiochcollege.edu/wp-content/uploads/2026/03/Horse-Lords-2.jpg
END:VEVENT
END:VCALENDAR