BEGIN:VCALENDAR
VERSION:2.0
PRODID:-//Antioch College - ECPv6.15.17.1//NONSGML v1.0//EN
CALSCALE:GREGORIAN
METHOD:PUBLISH
X-WR-CALNAME:Antioch College
X-ORIGINAL-URL:https://antiochcollege.edu
X-WR-CALDESC:Events for Antioch College
REFRESH-INTERVAL;VALUE=DURATION:PT1H
X-Robots-Tag:noindex
X-PUBLISHED-TTL:PT1H
BEGIN:VTIMEZONE
TZID:America/New_York
BEGIN:DAYLIGHT
TZOFFSETFROM:-0500
TZOFFSETTO:-0400
TZNAME:EDT
DTSTART:20250309T070000
END:DAYLIGHT
BEGIN:STANDARD
TZOFFSETFROM:-0400
TZOFFSETTO:-0500
TZNAME:EST
DTSTART:20251102T060000
END:STANDARD
BEGIN:DAYLIGHT
TZOFFSETFROM:-0500
TZOFFSETTO:-0400
TZNAME:EDT
DTSTART:20260308T070000
END:DAYLIGHT
BEGIN:STANDARD
TZOFFSETFROM:-0400
TZOFFSETTO:-0500
TZNAME:EST
DTSTART:20261101T060000
END:STANDARD
BEGIN:DAYLIGHT
TZOFFSETFROM:-0500
TZOFFSETTO:-0400
TZNAME:EDT
DTSTART:20270314T070000
END:DAYLIGHT
BEGIN:STANDARD
TZOFFSETFROM:-0400
TZOFFSETTO:-0500
TZNAME:EST
DTSTART:20271107T060000
END:STANDARD
END:VTIMEZONE
BEGIN:VEVENT
DTSTART;TZID=America/New_York:20260215T160000
DTEND;TZID=America/New_York:20260215T180000
DTSTAMP:20260421T063044
CREATED:20260126T204953Z
LAST-MODIFIED:20260129T075835Z
UID:55832-1771171200-1771178400@antiochcollege.edu
SUMMARY:Advocacy for a Just and Sustainable Middle East Peace
DESCRIPTION:Advocacy for a Just and Sustainable Middle East Peace \nWhen: Sunday\, February 15\, 2026\, 4-6pmWhere: Herndon Gallery @ Antioch College \nEvent Organizers: \n\nCoretta Scott King Center at Antioch College\nYellow Springs Friends Meeting\nGreater Dayton Peace Coalition\nInternational Peace Museum\nPeace Resource Center at Wilmington College\n\n			\n				Register Here
URL:https://antiochcollege.edu/event/the-cskc-presents-advocacy-for-a-just-and-sustainable-middle-east-peace/
LOCATION:Herndon Gallery\, 805 Livermore Street\, Antioch College\, South Hall\, Yellow Springs\, OH\, 45387-1683\, United States
CATEGORIES:Community & Campus Events,Coretta Scott King Center,Featured Event,Herndon Gallery,Open to the Public,Public Programs
ATTACH;FMTTYPE=image/jpeg:https://antiochcollege.edu/wp-content/uploads/2026/01/Middle-East-Peace-Event_-Vers5.jpg
END:VEVENT
BEGIN:VEVENT
DTSTART;TZID=America/New_York:20260220T190000
DTEND;TZID=America/New_York:20260220T210000
DTSTAMP:20260421T063044
CREATED:20250813T154548Z
LAST-MODIFIED:20260216T184549Z
UID:54619-1771614000-1771621200@antiochcollege.edu
SUMMARY:Poet Ross Gay with Janan Alexandra
DESCRIPTION:Ross Gay is interested in joy. Ross Gay wants to understand joy. \nRoss Gay is curious about joy. Ross Gay studies joy. \nSomething like that. \n~ \nRoss Gay is the author of four books of poetry: Against Which; Bringing the Shovel Down; Be Holding\, winner of the PEN American Literary Jean Stein Award; and Catalog of Unabashed Gratitude\, winner of the 2015 National Book Critics Circle Award and the 2016 Kingsley Tufts Poetry Award. In addition to his poetry\, Ross has released three collections of essays—The Book of Delights was released in 2019 and was a New York Times bestseller; Inciting Joy was released in 2022\, and his newest collection\, The Book of (More) Delights was released in September of 2023 \n– \nJanan Alexandra \nIn her debut poetry collection\, COME FROM\, janan alexandra weaves from English into Arabic\, exploring the joint projects of longing and belonging. \nPart love song for the speaker’s mother\, part grief song for ongoing postcolonial loss\, this book reaches for\, around\, underneath\, and through language—feeling for its limits and possibilities. \nDrawing on both narrative and lyric impulses\, alexandra invites readers into a world bristling with family\, memory\, home\, and inheritance—all in the wake of dislocation and fracture. In one section of the book\, we follow the speaker “back home” after years of separation; later\, we encounter a series of parables in the form of an Arabic abecedarian\, through which the speaker recovers parts of her mother tongue. Here\, alexandra probes the gifts and wounds of language\, invoking personal and communal histories marked with the longue durée of empire. \n  \n			\n				Get Tickets\n			\n				Season Ticket Packages\n			\n			\n				\n				\n				\n				\n			\n				\n				\n				\n				\n				\n				\n				\n				\n				\n				\n				This program is being supported by Mad River Theater Works\, generous funding from the Ohio Arts Council’s ArtsNext program\, the Yellow Springs Community Foundation and the Yellow Springs Library Association.   \n			\n			\n				\n				\n				\n				\n				\n				\n				\n				\n				\n				\n			\n			\n				\n				\n				\n				\n			\n				\n				\n			\n				\n				\n				\n				\n				\n				\n				\n				\n				\n				\n				\n				\n				\n				\n				\n				\n				\n				Updated Event Location: Herndon Gallery at Antioch College\, South Hall\, 805 Livermore Street\, Yellow Springs\, OH 45387 \nParking: Please note that parking is available in the lot behind the Wellness Center / OK Library. On-street parking is available on Livermore Street and adjacent streets. Accessible passenger drop-off/pick-up is available via Morgan Place\, off of Livermore Street.
URL:https://antiochcollege.edu/event/poet-ross-gay-with-janan-alexandra-at-the-foundry-theater/
LOCATION:Herndon Gallery\, 805 Livermore Street\, Antioch College\, South Hall\, Yellow Springs\, OH\, 45387-1683\, United States
CATEGORIES:Community & Campus Events,Featured Event,Foundry Theater,Herndon Gallery,Open to the Public
ATTACH;FMTTYPE=image/jpeg:https://antiochcollege.edu/wp-content/uploads/2025/08/ross-gay-500x500-1.jpg
END:VEVENT
BEGIN:VEVENT
DTSTART;TZID=America/New_York:20260221T190000
DTEND;TZID=America/New_York:20260221T210000
DTSTAMP:20260421T063044
CREATED:20260106T170835Z
LAST-MODIFIED:20260216T184615Z
UID:55715-1771700400-1771707600@antiochcollege.edu
SUMMARY:Mad River Theater Works presents: "No More Knocking"
DESCRIPTION:No More Knocking \nMad River Theater Works presents an evening of uplifting\, searching and socially minded hiphop from regional artists including Tronee Threat\, Chris.\, Blakk Sun\, and Kai the Action Kid. A live concert experience built around a single door — once closed\, now open — where music\, movement\, and presence trace the journey from denied access to inherited freedom. With minimal dialogue and a powerful visual narrative\, each artist moves through the door to tell the story of what happens after it finally opens.\n			\n				Get Tickets\n			\n				Season Ticket Packages\n			\n			\n				\n				\n				\n				\n			\n				\n				\n			\n				\n				\n				\n				\n				\n				\n				\n				\n				\n				\n				\n				\n				\n				\n				\n				\n				\n				Updated Event Location: Herndon Gallery at Antioch College\, South Hall\, 805 Livermore Street\, Yellow Springs\, OH 45387 \nParking: Please note that parking is available in the lot behind the Wellness Center / OK Library. On-street parking is available on Livermore Street and adjacent streets. Accessible passenger drop-off/pick-up is available via Morgan Place\, off of Livermore Street.
URL:https://antiochcollege.edu/event/nomoreknocking-at-the-foundry-theater/
LOCATION:Herndon Gallery\, 805 Livermore Street\, Antioch College\, South Hall\, Yellow Springs\, OH\, 45387-1683\, United States
CATEGORIES:Community & Campus Events,Featured Event,Foundry Theater,Herndon Gallery,Open to the Public
ATTACH;FMTTYPE=image/jpeg:https://antiochcollege.edu/wp-content/uploads/2026/01/no-more-knocking-graphic-scaled.jpg
END:VEVENT
BEGIN:VEVENT
DTSTART;TZID=America/New_York:20260228T190000
DTEND;TZID=America/New_York:20260228T210000
DTSTAMP:20260421T063044
CREATED:20260106T161829Z
LAST-MODIFIED:20260216T184708Z
UID:55703-1772305200-1772312400@antiochcollege.edu
SUMMARY:Bill MacKay
DESCRIPTION:“…there’s such a warmth to the way by which this Chicago-based singer-songwriter crafts his music it supersedes the Avant Garde. And his brilliant new LP\, Locust Land\, is no exception.” – Rock and Roll Globe  \n Bill MacKay is a guitarist\, improviser\, composer\, and singer based in Chicago.  \nAn accomplished collaborator with projects that include Katinka Kleijn (Stir\, 2019)\, Nathan Bowles (Keys\, 2021)\, and Ryley Walker (SpiderBeetleBee\, 2017)\, MacKay is also a solo artist creating multi-dimensional works such as Esker (2017)\, Fountain Fire (2019) Scarf (2020)\, and Locust Land (2024)\, all released on Drag City Records.  \nMacKay’s guitar mastery and songwriting were also highlighted by his commissioned score for the short film Flight Logs in 2019 (Chicago Film Archives).  \nHis book Movie House/Sala de Cine\, released in 2022\, appeared in an English/Spanish edition translated by the author. MacKay is also a poet\, visual artist and polyglot\, and is a member of both the avant-garde rock outfit Black Duck (with Douglas McCombs) and the experimental groove-drone project BCMC (with Cooper Crain).  \nAmong other publications\, his work has received praise in the Washington Post\, Chicago Reader\, New York Times\, Mojo\, Uncut\, Downbeat\, Paste\, Pitchfork\, and NPR.\nchael Butler\, Cincinnati experimental ensemble Knee Play\, and Indianapolis-based production company NoExit Performance.\n			\n				\n				\n				\n				\n				\n			\n				\n				\n				\n				\n				Opening the show is Neutrals \nNeutrals is a percussion duo based in Dayton\, OH. Formed in 2016 by Evan Miller and Andrew Seivert\, the duo combines their Rust Belt underground upbringings and classical training into a contemporary ensemble firmly grounded by their Midwestern roots. Equal parts written works and electroacoustic improvisation\, Neutrals performs established percussion duo repertoire\, drone/noise-based improvised music\, and above all\, commissioned works by living composers. Past and current collaborators include composers Rob Funkhouser\, Nate May\, Hugh Sheehan\, and Brooks Frederickson\, percussionist Aaron Michael Butler\, Cincinnati experimental ensemble Knee Play\, and Indianapolis-based production company NoExit Performance.\n			\n				Get Tickets\n			\n				Season Ticket Packages\n			\n			\n				\n				\n				\n				\n			\n				\n				\n			\n				\n				\n				\n				\n				\n				\n				\n				\n				\n				\n				\n				\n				\n				\n				\n				\n				\n				Updated Event Location: Herndon Gallery at Antioch College\, South Hall\, 805 Livermore Street\, Yellow Springs\, OH 45387 \nParking: Please note that parking is available in the lot behind the Wellness Center / OK Library. On-street parking is available on Livermore Street and adjacent streets. Accessible passenger drop-off/pick-up is available via Morgan Place\, off of Livermore Street. 
URL:https://antiochcollege.edu/event/bill-mackay-at-the-foundry-theater/
LOCATION:Herndon Gallery\, 805 Livermore Street\, Antioch College\, South Hall\, Yellow Springs\, OH\, 45387-1683\, United States
CATEGORIES:Community & Campus Events,Featured Event,Foundry Theater,Herndon Gallery,Open to the Public
ATTACH;FMTTYPE=image/webp:https://antiochcollege.edu/wp-content/uploads/2026/01/bill-mackay-2.webp
END:VEVENT
END:VCALENDAR