BEGIN:VCALENDAR
VERSION:2.0
PRODID:-//Antioch College - ECPv6.15.17.1//NONSGML v1.0//EN
CALSCALE:GREGORIAN
METHOD:PUBLISH
X-WR-CALNAME:Antioch College
X-ORIGINAL-URL:https://antiochcollege.edu
X-WR-CALDESC:Events for Antioch College
REFRESH-INTERVAL;VALUE=DURATION:PT1H
X-Robots-Tag:noindex
X-PUBLISHED-TTL:PT1H
BEGIN:VTIMEZONE
TZID:America/New_York
BEGIN:DAYLIGHT
TZOFFSETFROM:-0500
TZOFFSETTO:-0400
TZNAME:EDT
DTSTART:20250309T070000
END:DAYLIGHT
BEGIN:STANDARD
TZOFFSETFROM:-0400
TZOFFSETTO:-0500
TZNAME:EST
DTSTART:20251102T060000
END:STANDARD
BEGIN:DAYLIGHT
TZOFFSETFROM:-0500
TZOFFSETTO:-0400
TZNAME:EDT
DTSTART:20260308T070000
END:DAYLIGHT
BEGIN:STANDARD
TZOFFSETFROM:-0400
TZOFFSETTO:-0500
TZNAME:EST
DTSTART:20261101T060000
END:STANDARD
BEGIN:DAYLIGHT
TZOFFSETFROM:-0500
TZOFFSETTO:-0400
TZNAME:EDT
DTSTART:20270314T070000
END:DAYLIGHT
BEGIN:STANDARD
TZOFFSETFROM:-0400
TZOFFSETTO:-0500
TZNAME:EST
DTSTART:20271107T060000
END:STANDARD
END:VTIMEZONE
BEGIN:VEVENT
DTSTART;TZID=America/New_York:20260307T190000
DTEND;TZID=America/New_York:20260307T210000
DTSTAMP:20260421T044934
CREATED:20250812T161223Z
LAST-MODIFIED:20260223T174428Z
UID:54587-1772910000-1772917200@antiochcollege.edu
SUMMARY:Mark Lomax: "The Unity Suite"
DESCRIPTION:Mark Lomax II and the Urban Art Ensemble will present their new release\, The Unity Suite\, which draws musical inspiration from Lomax’s experiences in the Black church.\nExperience a musical performance focused on elevating the human spirit through healing\, transformation\, and unifying the human family. The Unity Suite\, a composition in six movements\, shows how music was used to facilitate spiritual transformation in the church performers and the congregation\, allowing them to thrive in the midst of physical\, political\, economic\, and psychological terror. Lomax invokes the power of Black sacred music and worship traditions to engage the global challenges humanity must overcome to save itself and the planet\, and to find a spiritual balance with the cosmos. Lomax has performed at the Foundry in each of the past two seasons and we welcome him back with this stunning new work. \nUrban Art Ensemble\nKenyatta Beasley – trumpet\nRob Dixon – alto saxophone\nEdwin Bayard – tenor and soprano saxophones\nWilliam Menefield – piano\nDean Hulett – bass\nMark Lomax II – drums and composition \n			\n				Get Tickets\n			\n				Season Ticket Packages\n			\n			\n				\n				\n				\n				\n			\n				\n				\n			\n				\n				\n				\n				\n				\n				\n				\n				\n				\n				\n				\n				\n				\n				\n				\n				\n				\n				Updated Event Location: Herndon Gallery at Antioch College\, South Hall\, 805 Livermore Street\, Yellow Springs\, OH 45387 \nParking: Please note that parking is available in the lot behind the Wellness Center / OK Library. On-street parking is available on Livermore Street and adjacent streets. Accessible passenger drop-off/pick-up is available via Morgan Place\, off of Livermore Street.
URL:https://antiochcollege.edu/event/mark-lomax-the-unity-suite-at-the-foundry-theater/
LOCATION:Herndon Gallery\, 805 Livermore Street\, Antioch College\, South Hall\, Yellow Springs\, OH\, 45387-1683\, United States
CATEGORIES:Community & Campus Events,Featured Event,Foundry Theater,Herndon Gallery,Open to the Public
ATTACH;FMTTYPE=image/jpeg:https://antiochcollege.edu/wp-content/uploads/2025/08/mark-lomax-new.jpg
END:VEVENT
BEGIN:VEVENT
DTSTART;TZID=America/New_York:20260324T190000
DTEND;TZID=America/New_York:20260324T210000
DTSTAMP:20260421T044934
CREATED:20260303T191056Z
LAST-MODIFIED:20260303T191102Z
UID:56975-1774378800-1774386000@antiochcollege.edu
SUMMARY:Sam Amidon
DESCRIPTION:Sam Amidon is a singer and multi-instrumentalist (banjo\, guitar\, fiddle) from Vermont\, US\, now based in London\, England. His new album “Salt River” was released by River Lea / Rough Trade on 24th January 2025. He has previously released seven acclaimed albums of songs on Bedroom Community and Nonesuch Records. \nAmidon’s material for these albums often consists of adventurous reworkings of traditional American ballads\, hymns and work songs\, with the New York Times writing that Amidon “transforms all of the songs\, changing their colors and loading them with trapdoors.” The albums have been deeply collaborative in nature\, inviting contributions from musicians such as composer Nico Muhly\, guitarist Bill Frisell\, and on “Salt River\,” saxophonist/producer Sam Gendel. \nThe release of “Salt River” comes on the heels of Sam’s work with choreographer Michael Keegan Dolan on the dance theatre music show Nobodaddy for which Sam was nominated as “Outstanding Creative Contribution” by the National Dance Awards Critics Circle in the UK. He also worked on the recently released film “History of Sound\,” starring Paul Mescal and Josh O’Connor\, wherein Amidon served as a music advisor and performer. The film had its premiere at the 2025 Cannes Film Festival.  \nPreviously\, Sam Amidon has recorded or performed as a guest artist with musicians such as Bon Iver\, The National\, The Blind Boys of Alabama\, The Gloaming\, Lonnie Holley\, Manami Kakudo\, Jacob Collier\, Marc Ribot\, and Beth Orton\, among many others. He has appeared internationally as a soloist with ensembles such as the Kronos Quartet\, The Aurora Orchestra\, the Australian Chamber Orchestra with Pekka Kuusisto\, The Scottish Chamber Orchestra\, The Oregon Symphony\, Roomful of Teeth\, and the Britten Sinfonia.  \n			\n				Get Tickets\n			\n				Season Ticket Packages\n			\n			\n				\n				\n				\n				\n			\n				\n				\n			\n				\n				\n				\n				\n				\n				\n				\n				\n				\n				\n				\n				\n				\n				\n				\n				\n				\n				Updated Event Location: Herndon Gallery at Antioch College\, South Hall\, 805 Livermore Street\, Yellow Springs\, OH 45387 \nParking: Please note that parking is available in the lot behind the Wellness Center / OK Library. On-street parking is available on Livermore Street and adjacent streets. Accessible passenger drop-off/pick-up is available via Morgan Place\, off of Livermore Street.
URL:https://antiochcollege.edu/event/sam-amidon/
LOCATION:Herndon Gallery\, 805 Livermore Street\, Antioch College\, South Hall\, Yellow Springs\, OH\, 45387-1683\, United States
CATEGORIES:Community & Campus Events,Featured Event,Foundry Theater,Herndon Gallery,Open to the Public
ATTACH;FMTTYPE=image/jpeg:https://antiochcollege.edu/wp-content/uploads/2026/03/E5A2453_Sam-Amidon_101224L_Steve-Gullick-1-2-scaled.jpg
END:VEVENT
END:VCALENDAR