BEGIN:VCALENDAR
VERSION:2.0
PRODID:-//Antioch College - ECPv6.15.17.1//NONSGML v1.0//EN
CALSCALE:GREGORIAN
METHOD:PUBLISH
X-ORIGINAL-URL:https://antiochcollege.edu
X-WR-CALDESC:Events for Antioch College
REFRESH-INTERVAL;VALUE=DURATION:PT1H
X-Robots-Tag:noindex
X-PUBLISHED-TTL:PT1H
BEGIN:VTIMEZONE
TZID:America/New_York
BEGIN:DAYLIGHT
TZOFFSETFROM:-0500
TZOFFSETTO:-0400
TZNAME:EDT
DTSTART:20250309T070000
END:DAYLIGHT
BEGIN:STANDARD
TZOFFSETFROM:-0400
TZOFFSETTO:-0500
TZNAME:EST
DTSTART:20251102T060000
END:STANDARD
BEGIN:DAYLIGHT
TZOFFSETFROM:-0500
TZOFFSETTO:-0400
TZNAME:EDT
DTSTART:20260308T070000
END:DAYLIGHT
BEGIN:STANDARD
TZOFFSETFROM:-0400
TZOFFSETTO:-0500
TZNAME:EST
DTSTART:20261101T060000
END:STANDARD
BEGIN:DAYLIGHT
TZOFFSETFROM:-0500
TZOFFSETTO:-0400
TZNAME:EDT
DTSTART:20270314T070000
END:DAYLIGHT
BEGIN:STANDARD
TZOFFSETFROM:-0400
TZOFFSETTO:-0500
TZNAME:EST
DTSTART:20271107T060000
END:STANDARD
END:VTIMEZONE
BEGIN:VEVENT
DTSTART;VALUE=DATE:20260711
DTEND;VALUE=DATE:20260727
DTSTAMP:20260421T032545
CREATED:20260402T154331Z
LAST-MODIFIED:20260402T154714Z
UID:57683-1783728000-1785110399@antiochcollege.edu
SUMMARY:Antioch EcoFarm & Food Foresting Program
DESCRIPTION:Antioch EcoFarm & Food Foresting Program\nFor more Information and registration: \nEcoFarm and Food Foresting Program \n \n			\n				Register
URL:https://antiochcollege.edu/event/antioch-ecofarm-food-foresting-program/
LOCATION:Arts & Science Building\, Yellow Springs\, OH\, 45387\, United States
CATEGORIES:Community & Campus Events,Herndon Gallery,Open to the Public
ATTACH;FMTTYPE=image/jpeg:https://antiochcollege.edu/wp-content/uploads/2026/04/Antioch-Farm-Image.jpg
END:VEVENT
BEGIN:VEVENT
DTSTART;VALUE=DATE:20260726
DTEND;VALUE=DATE:20260802
DTSTAMP:20260421T032545
CREATED:20250806T164737Z
LAST-MODIFIED:20260305T154643Z
UID:54465-1785024000-1785628799@antiochcollege.edu
SUMMARY:Summer Arts Institute: Myths Magic and Folklore thru Clay and the Creative Spirit
DESCRIPTION:Summer Arts Institute: Myths Magic and Folklore thru Clay and the Creative Spirit\nInformation and Registration: \nCommunity Learning
URL:https://antiochcollege.edu/event/myths-magic-and-folklore-thru-clay-and-the-creative-spirit/
LOCATION:Herndon Gallery\, 805 Livermore Street\, Antioch College\, South Hall\, Yellow Springs\, OH\, 45387-1683\, United States
CATEGORIES:Community & Campus Events,Herndon Gallery,Open to the Public
ATTACH;FMTTYPE=application/pdf:https://antiochcollege.edu/wp-content/uploads/2025/08/Myths-Magic-and-Folklore-flyer-1.pdf
END:VEVENT
END:VCALENDAR