BEGIN:VCALENDAR
VERSION:2.0
PRODID:-//Antioch College - ECPv6.15.17.1//NONSGML v1.0//EN
CALSCALE:GREGORIAN
METHOD:PUBLISH
X-WR-CALNAME:Antioch College
X-ORIGINAL-URL:https://antiochcollege.edu
X-WR-CALDESC:Events for Antioch College
REFRESH-INTERVAL;VALUE=DURATION:PT1H
X-Robots-Tag:noindex
X-PUBLISHED-TTL:PT1H
BEGIN:VTIMEZONE
TZID:America/New_York
BEGIN:DAYLIGHT
TZOFFSETFROM:-0500
TZOFFSETTO:-0400
TZNAME:EDT
DTSTART:20240310T070000
END:DAYLIGHT
BEGIN:STANDARD
TZOFFSETFROM:-0400
TZOFFSETTO:-0500
TZNAME:EST
DTSTART:20241103T060000
END:STANDARD
BEGIN:DAYLIGHT
TZOFFSETFROM:-0500
TZOFFSETTO:-0400
TZNAME:EDT
DTSTART:20250309T070000
END:DAYLIGHT
BEGIN:STANDARD
TZOFFSETFROM:-0400
TZOFFSETTO:-0500
TZNAME:EST
DTSTART:20251102T060000
END:STANDARD
BEGIN:DAYLIGHT
TZOFFSETFROM:-0500
TZOFFSETTO:-0400
TZNAME:EDT
DTSTART:20260308T070000
END:DAYLIGHT
BEGIN:STANDARD
TZOFFSETFROM:-0400
TZOFFSETTO:-0500
TZNAME:EST
DTSTART:20261101T060000
END:STANDARD
END:VTIMEZONE
BEGIN:VEVENT
DTSTART;VALUE=DATE:20250708
DTEND;VALUE=DATE:20250725
DTSTAMP:20260423T151639
CREATED:20250429T152121Z
LAST-MODIFIED:20250704T172943Z
UID:53041-1751932800-1753401599@antiochcollege.edu
SUMMARY:Creative Writing: Writing to Change the World
DESCRIPTION:JA Block Creative Writing Course Open to Community Members \nBuilding on Mary Pipher’s Writing to Change the World\, this class will offer a fluid mix of craft\, inspiration\, support\, and sharing of our thoughts and our work. This will be a safe place for you to explore topics that matter to you as we learn how to develop powerful personal writing that can change ourselves and the world.\n \nMore about Cyndi Pauwels on her author website.\n\nWhat: LIT 250 (2 cr): Creative Writing: Writing to Change the World\nInstructor: Cyndi Pauwels\nTime: 1:00pm – 4:20pm\nDates: Week 2: July 15 (T)\, July 16 (W)\, July 17 (R) | Week 3: July 22 (T)\, July 23 (W)\, July 24 (R)\nFor: We invite community members to participate through the non-credit audit option.\nLocation: Antioch College\, One Morgan Place\, Yellow Springs\, OH 45387\nFee: $200 flat community audit fee\n\nTo register\, please complete both of the following:\nCommunity Course Audit Form \nPayment Form\n(Antioch College collects this information as required by Federal law\, and reports it in aggregate form only\, in a completely confidential manner.  No personal information is linked to demographic information): \n			\n				\n				\n				\n				\n				\n\n                \n                        \n                            Community Course Audit Form\n                            Registrar's Office demographics collection for community auditors \n                        \n                        Course Name(Required)Term(Required)Legal Name(Required)\n                            \n                            \n                                                    \n                                                    First\n                                                \n                            \n                                                    \n                                                    Middle\n                                                \n                            \n                                                    \n                                                    Last\n                                                \n                            \n                        Gender(Required)\n			\n					\n					Female\n			\n			\n					\n					Male\n			\n			\n					\n					Prefer not to say\n			\n			\n					\n					Other\n			Date of Birth\n                            \n                            MM slash DD slash YYYY\n                        \n                        Race/Ethnicity(Required)\n			\n					\n					African American\n			\n			\n					\n					American Indian / Alaska Native (Original Peoples)\n			\n			\n					\n					Asian (including Indian subcontinent\, Philippines)\n			\n			\n					\n					Middle Eastern\n			\n			\n					\n					Native Hawaiian / Pacific Islander\n			\n			\n					\n					White (excluding Middle Eastern)\n			\n			\n					\n					Multi-Racial\n			\n			\n					\n					Prefer not to say\n			Do you identify as Hispanic/Latinx?(Required)\n			\n					\n					Yes\n			\n			\n					\n					No\n			\n			\n					\n					Prefer not to say
URL:https://antiochcollege.edu/event/creative-writing-writing-to-change-the-world/
LOCATION:MI
CATEGORIES:Academic Affairs & Co-op,Community & Campus Events,Featured Event,Open to the Public,Public Programs
END:VEVENT
BEGIN:VEVENT
DTSTART;TZID=America/New_York:20250710T180000
DTEND;TZID=America/New_York:20250711T193000
DTSTAMP:20260423T151639
CREATED:20250710T170209Z
LAST-MODIFIED:20250710T170214Z
UID:53918-1752170400-1752262200@antiochcollege.edu
SUMMARY:Rhythm and Release African Diaspora Dance Class at the CSKC
DESCRIPTION:Rhythm and Release \n2025 African Diaspora Dance Class Series \n\n\n \nJoin us this summer for four joyful dance classes highlighting African Diaspora Dance taught by Dr. Queen Meccasia Zabriskie. \n\n\n \nFour Fridays: \nJuly 11th\, 18th\, 25th and August 1st\n \nTime: 6:00-7:30 PM \n \nLocation: Coretta Scott King Center @ Antioch College \n781 Livermore Road \nYellow Springs\, Ohio 
URL:https://antiochcollege.edu/event/rhythm-and-release-african-diaspora-dance-class-at-the-cskc-24/
LOCATION:Coretta Scott King Center\, 750 Livermore St\, Yellow Springs\, OH\, 45387\, United States
CATEGORIES:Community & Campus Events,Coretta Scott King Center,Featured Event,Open to the Public,Public Programs
ATTACH;FMTTYPE=image/png:https://antiochcollege.edu/wp-content/uploads/2025/07/RhythmandRelease_Summer2025_Version4.png
END:VEVENT
END:VCALENDAR