BEGIN:VCALENDAR
VERSION:2.0
PRODID:-//Antioch College - ECPv6.15.17.1//NONSGML v1.0//EN
CALSCALE:GREGORIAN
METHOD:PUBLISH
X-ORIGINAL-URL:https://antiochcollege.edu
X-WR-CALDESC:Events for Antioch College
REFRESH-INTERVAL;VALUE=DURATION:PT1H
X-Robots-Tag:noindex
X-PUBLISHED-TTL:PT1H
BEGIN:VTIMEZONE
TZID:America/New_York
BEGIN:DAYLIGHT
TZOFFSETFROM:-0500
TZOFFSETTO:-0400
TZNAME:EDT
DTSTART:20230312T070000
END:DAYLIGHT
BEGIN:STANDARD
TZOFFSETFROM:-0400
TZOFFSETTO:-0500
TZNAME:EST
DTSTART:20231105T060000
END:STANDARD
BEGIN:DAYLIGHT
TZOFFSETFROM:-0500
TZOFFSETTO:-0400
TZNAME:EDT
DTSTART:20240310T070000
END:DAYLIGHT
BEGIN:STANDARD
TZOFFSETFROM:-0400
TZOFFSETTO:-0500
TZNAME:EST
DTSTART:20241103T060000
END:STANDARD
BEGIN:DAYLIGHT
TZOFFSETFROM:-0500
TZOFFSETTO:-0400
TZNAME:EDT
DTSTART:20250309T070000
END:DAYLIGHT
BEGIN:STANDARD
TZOFFSETFROM:-0400
TZOFFSETTO:-0500
TZNAME:EST
DTSTART:20251102T060000
END:STANDARD
END:VTIMEZONE
BEGIN:VEVENT
DTSTART;VALUE=DATE:20240927
DTEND;VALUE=DATE:20241123
DTSTAMP:20260420T225331
CREATED:20241011T191237Z
LAST-MODIFIED:20241011T191347Z
UID:51069-1727395200-1732319999@antiochcollege.edu
SUMMARY:Upstairs at the Herndon presents: Ella Santos Thinking Out Loud
DESCRIPTION:Upstairs at the Herndon presents: Ella Santos Thinking Out Loud\n\nFriday\, September 27-Friday November 22\, 2024\nGallery Hours Thursday-Saturday 1-5 PM\nHerndon Gallery Antioch College\, Yellow Springs\, Ohio
URL:https://antiochcollege.edu/event/upstairs-at-the-herndon-presents-ella-santos-thinking-out-loud/
LOCATION:Herndon Gallery\, 805 Livermore Street\, Antioch College\, South Hall\, Yellow Springs\, OH\, 45387-1683\, United States
CATEGORIES:Community & Campus Events,Herndon - Current Exhibition,Herndon Gallery,Open to the Public
ATTACH;FMTTYPE=image/png:https://antiochcollege.edu/wp-content/uploads/2024/10/final.png
END:VEVENT
BEGIN:VEVENT
DTSTART;VALUE=DATE:20241005
DTEND;VALUE=DATE:20241130
DTSTAMP:20260420T225331
CREATED:20241011T191632Z
LAST-MODIFIED:20241011T191640Z
UID:51077-1728086400-1732924799@antiochcollege.edu
SUMMARY:Herndon Gallery and FotoFocus Biennial 2024 present: Juan-SI Gonzalez Looking for Cuba Inside
DESCRIPTION:Herndon Gallery and FotoFocus Biennial 2024\npresent\nJuan-SI Gonzalez Looking for Cuba Inside\nOpening Reception and Artist Talk Saturday\, October 5\, 4:00-6:00 PM\nSaturday\, October 5-Friday November 29\, 2024\n\nGallery Hours Thursday-Saturday 1-5 PM\nHerndon Gallery Antioch College\, Yellow Springs\, Ohio
URL:https://antiochcollege.edu/event/herndon-gallery-and-fotofocus-biennial-2024-present-juan-si-gonzalez-looking-for-cuba-inside/
LOCATION:Herndon Gallery\, 805 Livermore Street\, Antioch College\, South Hall\, Yellow Springs\, OH\, 45387-1683\, United States
CATEGORIES:Community & Campus Events,Herndon - Current Exhibition,Herndon Gallery,Open to the Public
ATTACH;FMTTYPE=image/png:https://antiochcollege.edu/wp-content/uploads/2024/10/poster.png
END:VEVENT
BEGIN:VEVENT
DTSTART;TZID=America/New_York:20241101T173000
DTEND;TZID=America/New_York:20241101T190000
DTSTAMP:20260420T225331
CREATED:20241018T145512Z
LAST-MODIFIED:20241018T145518Z
UID:51135-1730482200-1730487600@antiochcollege.edu
SUMMARY:Rhythm and Release African Diaspora Dance Class at the CSKC
DESCRIPTION:Date: Fridays\, September 27\, 2024 through November 1\, 2024 \nTime: 5:30 PM – 7:00 PM \nJoin us for a weekly African Diaspora Dance class and learn traditional and contemporary dance from Africa and the African Diaspora. This class will be taught by Dr. Queen Meccasia Zabriskie\, and it will meet in the Wellness Center. This class is open to individuals of all ages. \nLocation:Coretta Scott King Center @ Antioch College781 Livermore St.Yellow Springs\, OH 45387 \nCost:Drop in Class: $105 Class Card: $40 \nFree for Antioch students\, staff\, faculty\, and recent alumsWellness Center Member rates and discounts apply \nPlease register for the class using this google form.  \n 
URL:https://antiochcollege.edu/event/rhythm-and-release-african-diaspora-dance-class-at-the-cskc-5/
LOCATION:Coretta Scott King Center\, 750 Livermore St\, Yellow Springs\, OH\, 45387\, United States
CATEGORIES:Community & Campus Events,Coretta Scott King Center,Featured Event,Open to the Public,Public Programs
ATTACH;FMTTYPE=image/jpeg:https://antiochcollege.edu/wp-content/uploads/2024/09/RhythmandReleaseCKSC.jpg
END:VEVENT
BEGIN:VEVENT
DTSTART;TZID=America/New_York:20241102T140000
DTEND;TZID=America/New_York:20241102T160000
DTSTAMP:20260420T225331
CREATED:20241030T135034Z
LAST-MODIFIED:20241030T135043Z
UID:51237-1730556000-1730563200@antiochcollege.edu
SUMMARY:Upstairs at the Herndon presents: Ella Santos Thinking Out Loud Artist Talk
DESCRIPTION: \nUpstairs at the Herndon presents: Ella Santos Thinking Out Loud Artist Talk \nSunday\, November 2\, 2024\, 2-4pm\n\n \nExhibition Runs Friday\, September 27-Friday November 22\, 2024\nGallery Hours Thursday-Saturday 1-5 PM\nHerndon Gallery Antioch College\, Yellow Springs\, Ohio
URL:https://antiochcollege.edu/event/upstairs-at-the-herndon-presents-ella-santos-thinking-out-loud-artist-talk/
LOCATION:Herndon Gallery\, 805 Livermore Street\, Antioch College\, South Hall\, Yellow Springs\, OH\, 45387-1683\, United States
CATEGORIES:Community & Campus Events,Herndon - Current Exhibition,Herndon Gallery,Open to the Public
ATTACH;FMTTYPE=image/png:https://antiochcollege.edu/wp-content/uploads/2024/10/Ella-Santos-Artist-Talk_Screenshot-2024-10-26-at-1.23.56 PM.png
END:VEVENT
BEGIN:VEVENT
DTSTART;TZID=America/New_York:20241102T190000
DTEND;TZID=America/New_York:20241102T210000
DTSTAMP:20260420T225331
CREATED:20240927T152207Z
LAST-MODIFIED:20240927T152323Z
UID:50742-1730574000-1730581200@antiochcollege.edu
SUMMARY:The World House Choir's "Hold On!" at the Foundry Theater
DESCRIPTION:Free and Open to the Public. Donations accepted at the door. \nSaturday\, November 2 @ 7pmSunday\, November 3 @ 4pm \nFounded in 2012 by Dr. Catherine Roma\, the World House Choir is a diverse\, multi-cultural\, mixed-voice choir of 80-90 active citizen singers. The choir’s repertoire is drawn from the music of peace and justice struggles worldwide\, representing different traditions including classical\, global folk music\, spirituals\, and gospel. \nOur name is inspired by the life and work of Dr. Martin Luther King\, Jr\, who wrote\, “We have inherited a large house\, a great world house in which we have to learn to live together in peace.” The name refers to the choice each person must make – to live in community or chaos\, particularly in a nation where racial stereotypes remain strong and multiculturalism a work-in-progress. \nThe Rev. Derrick Weston and Dr. Catherine Roma met in the summer of 2012. They were encouraged to meet one another because people felt they had the same focus about creating a peace and justice choir. Rev. Weston was Director of the Coretta Scott King [CSK] Center and minister of the Presbyterian church in Yellow Springs\, Ohio. In September 2012\, they worked together to form an embryonic choir that sang for world peace day celebration at the Presbyterian Church. \nAfter that successful effort\, a mission statement was created: “To perform music that motivates and inspires our communities toward justice\, diversity and equality as we strive for peace and to create our web of mutuality.” Rev. Weston and Dr. Roma wanted the choir to be associated with the Coretta Scott King Center at Antioch College and embarked on a collaboration. \nThe choir grew throughout 2013. The first major collaboration was for the CSK birthday celebration at the CSK Center at Antioch College in April 2013. This was considered the “official” launch of the choir and the beginning of the public phase of our collaboration. From the beginning\, Antioch College has graciously provided practice space first in the CSK Center and\, as our numbers grew\, in the Foundry Theater. Today\, the World House Choir is proud to be one of the Artist-in-Resident companies activating the Foundry Theater and its mission.
URL:https://antiochcollege.edu/event/the-world-house-choirs-hold-on-at-the-foundry-theater/
LOCATION:Foundry Theater\, 920 Corry St\, Yellow Springs\, OH\, 45387\, United States
CATEGORIES:Community & Campus Events,Featured Event,Foundry Theater,Open to the Public
ATTACH;FMTTYPE=image/png:https://antiochcollege.edu/wp-content/uploads/2024/07/WHC-logo.png
END:VEVENT
BEGIN:VEVENT
DTSTART;TZID=America/New_York:20241103T100000
DTEND;TZID=America/New_York:20241103T130000
DTSTAMP:20260420T225331
CREATED:20240927T151506Z
LAST-MODIFIED:20240927T151511Z
UID:50734-1730628000-1730638800@antiochcollege.edu
SUMMARY:Drawing from the Figure Artists' Group at the Herndon Gallery
DESCRIPTION:Drawing from the Figure Artists’ Group is free and open to the public. Join us every other Sunday from 10:00 am to 1:00 pm at the Herndon Gallery.\n \nDates:\nSeptember 29 from 10:00 am to 1:00 pm\nOctober 13 from 10:00 am to 1:00 pm\nOctober 27 from 10:00 am to 1:00 pm\nNovember 3 from 10:00 am to 1:00 pm\nNovember 17 from 10:00 am to 1:00 pm\nDecember 1 from 10:00 am to 1:00 pm\nDecember 15 from 10:00 am to 1:00 pm
URL:https://antiochcollege.edu/event/drawing-from-the-figure-artists-group-at-the-herndon-gallery-4/
LOCATION:Herndon Gallery\, 805 Livermore Street\, Antioch College\, South Hall\, Yellow Springs\, OH\, 45387-1683\, United States
CATEGORIES:Community & Campus Events,Herndon - Current Exhibition,Herndon Gallery,Open to the Public
ATTACH;FMTTYPE=image/png:https://antiochcollege.edu/wp-content/uploads/2024/09/Drawing-from-the-Figure-Herndon-Gallery.png
END:VEVENT
BEGIN:VEVENT
DTSTART;TZID=America/New_York:20241103T160000
DTEND;TZID=America/New_York:20241103T180000
DTSTAMP:20260420T225331
CREATED:20240927T152727Z
LAST-MODIFIED:20240927T152734Z
UID:50749-1730649600-1730656800@antiochcollege.edu
SUMMARY:The World House Choir's "Hold On!" at the Foundry Theater
DESCRIPTION:Free and Open to the Public. Donations accepted at the door. \nSaturday\, November 2 @ 7pmSunday\, November 3 @ 4pm \nFounded in 2012 by Dr. Catherine Roma\, the World House Choir is a diverse\, multi-cultural\, mixed-voice choir of 80-90 active citizen singers. The choir’s repertoire is drawn from the music of peace and justice struggles worldwide\, representing different traditions including classical\, global folk music\, spirituals\, and gospel. \nOur name is inspired by the life and work of Dr. Martin Luther King\, Jr\, who wrote\, “We have inherited a large house\, a great world house in which we have to learn to live together in peace.” The name refers to the choice each person must make – to live in community or chaos\, particularly in a nation where racial stereotypes remain strong and multiculturalism a work-in-progress. \nThe Rev. Derrick Weston and Dr. Catherine Roma met in the summer of 2012. They were encouraged to meet one another because people felt they had the same focus about creating a peace and justice choir. Rev. Weston was Director of the Coretta Scott King [CSK] Center and minister of the Presbyterian church in Yellow Springs\, Ohio. In September 2012\, they worked together to form an embryonic choir that sang for world peace day celebration at the Presbyterian Church. \nAfter that successful effort\, a mission statement was created: “To perform music that motivates and inspires our communities toward justice\, diversity and equality as we strive for peace and to create our web of mutuality.” Rev. Weston and Dr. Roma wanted the choir to be associated with the Coretta Scott King Center at Antioch College and embarked on a collaboration. \nThe choir grew throughout 2013. The first major collaboration was for the CSK birthday celebration at the CSK Center at Antioch College in April 2013. This was considered the “official” launch of the choir and the beginning of the public phase of our collaboration. From the beginning\, Antioch College has graciously provided practice space first in the CSK Center and\, as our numbers grew\, in the Foundry Theater. Today\, the World House Choir is proud to be one of the Artist-in-Resident companies activating the Foundry Theater and its mission.
URL:https://antiochcollege.edu/event/the-world-house-choirs-hold-on-at-the-foundry-theater-2/
LOCATION:Foundry Theater\, 920 Corry St\, Yellow Springs\, OH\, 45387\, United States
CATEGORIES:Community & Campus Events,Featured Event,Foundry Theater,Open to the Public
ATTACH;FMTTYPE=image/png:https://antiochcollege.edu/wp-content/uploads/2024/07/WHC-logo.png
END:VEVENT
BEGIN:VEVENT
DTSTART;TZID=America/New_York:20241103T190000
DTEND;TZID=America/New_York:20241103T210000
DTSTAMP:20260420T225331
CREATED:20240722T173417Z
LAST-MODIFIED:20241028T180420Z
UID:50032-1730660400-1730667600@antiochcollege.edu
SUMMARY:The World House Choir's "Hold On!" at the Foundry Theater
DESCRIPTION:Free and Open to the Public. Donations accepted at the door. \nSaturday\, November 2 @ 7pmSunday\, November 3 @ 4pm \nFounded in 2012 by Dr. Catherine Roma\, the World House Choir is a diverse\, multi-cultural\, mixed-voice choir of 80-90 active citizen singers. The choir’s repertoire is drawn from the music of peace and justice struggles worldwide\, representing different traditions including classical\, global folk music\, spirituals\, and gospel. \nOur name is inspired by the life and work of Dr. Martin Luther King\, Jr\, who wrote\, “We have inherited a large house\, a great world house in which we have to learn to live together in peace.” The name refers to the choice each person must make – to live in community or chaos\, particularly in a nation where racial stereotypes remain strong and multiculturalism a work-in-progress. \nThe Rev. Derrick Weston and Dr. Catherine Roma met in the summer of 2012. They were encouraged to meet one another because people felt they had the same focus about creating a peace and justice choir. Rev. Weston was Director of the Coretta Scott King [CSK] Center and minister of the Presbyterian church in Yellow Springs\, Ohio. In September 2012\, they worked together to form an embryonic choir that sang for world peace day celebration at the Presbyterian Church. \nAfter that successful effort\, a mission statement was created: “To perform music that motivates and inspires our communities toward justice\, diversity and equality as we strive for peace and to create our web of mutuality.” Rev. Weston and Dr. Roma wanted the choir to be associated with the Coretta Scott King Center at Antioch College and embarked on a collaboration. \nThe choir grew throughout 2013. The first major collaboration was for the CSK birthday celebration at the CSK Center at Antioch College in April 2013. This was considered the “official” launch of the choir and the beginning of the public phase of our collaboration. From the beginning\, Antioch College has graciously provided practice space first in the CSK Center and\, as our numbers grew\, in the Foundry Theater. Today\, the World House Choir is proud to be one of the Artist-in-Resident companies activating the Foundry Theater and its mission.
URL:https://antiochcollege.edu/event/the-world-house-choir-at-the-foundry-theater/
LOCATION:Foundry Theater\, 920 Corry St\, Yellow Springs\, OH\, 45387\, United States
CATEGORIES:Community & Campus Events,Featured Event,Foundry Theater,Open to the Public
ATTACH;FMTTYPE=image/png:https://antiochcollege.edu/wp-content/uploads/2024/07/WHC-logo.png
END:VEVENT
BEGIN:VEVENT
DTSTART;TZID=America/New_York:20241115T173000
DTEND;TZID=America/New_York:20241115T190000
DTSTAMP:20260420T225331
CREATED:20241114T164236Z
LAST-MODIFIED:20241114T164241Z
UID:51520-1731691800-1731697200@antiochcollege.edu
SUMMARY:Rhythm and Release African Diaspora Dance Class at the CSKC
DESCRIPTION:Date: Fridays \nTime: 5:30 PM – 7:00 PM \nJoin us for a weekly African Diaspora Dance class and learn traditional and contemporary dance from Africa and the African Diaspora. This class will be taught by Dr. Queen Meccasia Zabriskie\, and it will meet in the Wellness Center. This class is open to individuals of all ages. \nLocation:Coretta Scott King Center @ Antioch College781 Livermore St.Yellow Springs\, OH 45387 \nCost:Drop in Class: $105 Class Card: $40 \nFree for Antioch students\, staff\, faculty\, and recent alumsWellness Center Member rates and discounts apply \nPlease register for the class using this google form.  \n 
URL:https://antiochcollege.edu/event/rhythm-and-release-african-diaspora-dance-class-at-the-cskc-7/
LOCATION:Coretta Scott King Center\, 750 Livermore St\, Yellow Springs\, OH\, 45387\, United States
CATEGORIES:Community & Campus Events,Coretta Scott King Center,Featured Event,Open to the Public,Public Programs
ATTACH;FMTTYPE=image/jpeg:https://antiochcollege.edu/wp-content/uploads/2024/11/Blue-and-Black-Modern-Dance-Class-Promotional-Flyer.jpg
END:VEVENT
BEGIN:VEVENT
DTSTART;TZID=America/New_York:20241117T100000
DTEND;TZID=America/New_York:20241117T130000
DTSTAMP:20260420T225331
CREATED:20240927T151637Z
LAST-MODIFIED:20240927T151642Z
UID:50736-1731837600-1731848400@antiochcollege.edu
SUMMARY:Drawing from the Figure Artists' Group at the Herndon Gallery
DESCRIPTION:Drawing from the Figure Artists’ Group is free and open to the public. Join us every other Sunday from 10:00 am to 1:00 pm at the Herndon Gallery.\n \nDates:\nSeptember 29 from 10:00 am to 1:00 pm\nOctober 13 from 10:00 am to 1:00 pm\nOctober 27 from 10:00 am to 1:00 pm\nNovember 3 from 10:00 am to 1:00 pm\nNovember 17 from 10:00 am to 1:00 pm\nDecember 1 from 10:00 am to 1:00 pm\nDecember 15 from 10:00 am to 1:00 pm
URL:https://antiochcollege.edu/event/drawing-from-the-figure-artists-group-at-the-herndon-gallery-5/
LOCATION:Herndon Gallery\, 805 Livermore Street\, Antioch College\, South Hall\, Yellow Springs\, OH\, 45387-1683\, United States
CATEGORIES:Community & Campus Events,Herndon - Current Exhibition,Herndon Gallery,Open to the Public
ATTACH;FMTTYPE=image/png:https://antiochcollege.edu/wp-content/uploads/2024/09/Drawing-from-the-Figure-Herndon-Gallery.png
END:VEVENT
BEGIN:VEVENT
DTSTART;TZID=America/New_York:20241120T190000
DTEND;TZID=America/New_York:20241120T210000
DTSTAMP:20260420T225331
CREATED:20240722T174522Z
LAST-MODIFIED:20250121T162939Z
UID:50041-1732129200-1732136400@antiochcollege.edu
SUMMARY:THE DIRTY DOZEN BRASS BAND at the Foundry Theater
DESCRIPTION:THE DIRTY DOZEN BRASS BAND \n“The Dirty Dozen Brass Band is arguably the most influential ensemble to emerge in New Orleans over the last 25 years. Its sway on the brass band scene has been staggering\, spawning bands like the ReBirth\, New Birth\, Hot 8\, Li’l Rascals\, Soul Rebels and just about every other young brass ensemble presently performing.” – Offbeat Magazine \nCelebrating over 45 years since their founding in 1977\, the GRAMMY Award-winning New Orleans-based Dirty Dozen Brass Band has taken the traditional foundation of brass band music and incorporated it into a blend of genres including Bebop Jazz\, Funk and R&B/Soul. This unique sound\, described by the band as a ‘musical gumbo\,’ has allowed the Dirty Dozen to tour across 5 continents and more than 30 countries\, record 12 studio albums and collaborate with a range of artists from Modest Mouse to Widespread Panic to Norah Jones. Forty five-plus years later\, the Dirty Dozen Brass Band is a world famous music machine whose name is synonymous with genre-bending romps and high-octane performances. \nSupport for this project was provided by the Great Lakes Colleges Association through its Global Crossroads Initiative\, made possible by a grant from the Mellon Foundation. \nThanks to the Ohio Arts Council ARTS Rise Program\, which expands representation and access in the arts\, reduced-rate tickets are available for this program. We hope to create a programming series where ticket pricing is not a barrier to attendance.
URL:https://antiochcollege.edu/event/the-dirty-dozen-brass-band-at-the-foundry-theater/
LOCATION:Foundry Theater\, 920 Corry St\, Yellow Springs\, OH\, 45387\, United States
CATEGORIES:Community & Campus Events,Featured Event,Foundry Theater,Open to the Public
ATTACH;FMTTYPE=image/jpeg:https://antiochcollege.edu/wp-content/uploads/2024/07/DDBB_2021_promo-portrait-scaled.jpg
END:VEVENT
BEGIN:VEVENT
DTSTART;TZID=America/New_York:20241122T173000
DTEND;TZID=America/New_York:20241122T190000
DTSTAMP:20260420T225331
CREATED:20241114T164421Z
LAST-MODIFIED:20241114T164427Z
UID:51524-1732296600-1732302000@antiochcollege.edu
SUMMARY:Rhythm and Release African Diaspora Dance Class at the CSKC
DESCRIPTION:Date: Fridays \nTime: 5:30 PM – 7:00 PM \nJoin us for a weekly African Diaspora Dance class and learn traditional and contemporary dance from Africa and the African Diaspora. This class will be taught by Dr. Queen Meccasia Zabriskie\, and it will meet in the Wellness Center. This class is open to individuals of all ages. \nLocation:Coretta Scott King Center @ Antioch College781 Livermore St.Yellow Springs\, OH 45387 \nCost:Drop in Class: $105 Class Card: $40 \nFree for Antioch students\, staff\, faculty\, and recent alumsWellness Center Member rates and discounts apply \nPlease register for the class using this google form.  \n 
URL:https://antiochcollege.edu/event/rhythm-and-release-african-diaspora-dance-class-at-the-cskc-8/
LOCATION:Coretta Scott King Center\, 750 Livermore St\, Yellow Springs\, OH\, 45387\, United States
CATEGORIES:Community & Campus Events,Coretta Scott King Center,Featured Event,Open to the Public,Public Programs
ATTACH;FMTTYPE=image/jpeg:https://antiochcollege.edu/wp-content/uploads/2024/11/Blue-and-Black-Modern-Dance-Class-Promotional-Flyer.jpg
END:VEVENT
BEGIN:VEVENT
DTSTART;TZID=America/New_York:20241129T173000
DTEND;TZID=America/New_York:20241129T190000
DTSTAMP:20260420T225331
CREATED:20241114T164534Z
LAST-MODIFIED:20241114T164540Z
UID:51526-1732901400-1732906800@antiochcollege.edu
SUMMARY:Rhythm and Release African Diaspora Dance Class at the CSKC
DESCRIPTION:Date: Fridays \nTime: 5:30 PM – 7:00 PM \nJoin us for a weekly African Diaspora Dance class and learn traditional and contemporary dance from Africa and the African Diaspora. This class will be taught by Dr. Queen Meccasia Zabriskie\, and it will meet in the Wellness Center. This class is open to individuals of all ages. \nLocation:Coretta Scott King Center @ Antioch College781 Livermore St.Yellow Springs\, OH 45387 \nCost:Drop in Class: $105 Class Card: $40 \nFree for Antioch students\, staff\, faculty\, and recent alumsWellness Center Member rates and discounts apply \nPlease register for the class using this google form.  \n 
URL:https://antiochcollege.edu/event/rhythm-and-release-african-diaspora-dance-class-at-the-cskc-9/
LOCATION:Coretta Scott King Center\, 750 Livermore St\, Yellow Springs\, OH\, 45387\, United States
CATEGORIES:Community & Campus Events,Coretta Scott King Center,Featured Event,Open to the Public,Public Programs
ATTACH;FMTTYPE=image/jpeg:https://antiochcollege.edu/wp-content/uploads/2024/11/Blue-and-Black-Modern-Dance-Class-Promotional-Flyer.jpg
END:VEVENT
BEGIN:VEVENT
DTSTART;TZID=America/New_York:20241130T090000
DTEND;TZID=America/New_York:20241130T130000
DTSTAMP:20260420T225331
CREATED:20241115T141540Z
LAST-MODIFIED:20241115T141547Z
UID:51538-1732957200-1732971600@antiochcollege.edu
SUMMARY:Turkey Trot Fun Run at the Wellness Center
DESCRIPTION:Join Us for the 1st Annual Turkey Trot 5K and 1.5 Mile Fun RunHosted by the Wellness Center at Antioch College \nDate: Saturday\, November 30thRace Start Time: 10:00 AMCheck-In: Begins at 9:00 AM at the Wellness Center \nWhether you’re running the 5K or enjoying the 1.5-mile fun run/walk\, we invite you to kick off the holiday season with a great event for all! \nRegistration:You can register in person at the Wellness Center front desk. For more race details\, contact the Wellness Center or refer to the attached flyer. \nT-shirt Orders:Want to show your support?  \nOrder a Turkey Trot T-shirt! Orders must be placed by 11:59 PM on Sunday\, November 17th to receive the shirt at the event.  Orders placed after the deadline will be shipped to the customers home address after the race.  \nShirts can be ordered online here: https://logoimages.us/2024turkeytrot/ \nNote: You don’t have to participate in the event to order a T-shirt—your purchase helps support the College and the Wellness Center Hub!
URL:https://antiochcollege.edu/event/turkey-trot-fun-run-at-the-wellness-center/
LOCATION:Wellness Center\, 240 E South College St\, Yellow Springs\, OH\, 45387\, United States
CATEGORIES:Community & Campus Events,Featured Event,Open to the Public,Public Programs,Wellness Center
ATTACH;FMTTYPE=image/jpeg:https://antiochcollege.edu/wp-content/uploads/2024/11/WC-2024-Turkey-Trot-Flyer-2-scaled.jpg
END:VEVENT
END:VCALENDAR