BEGIN:VCALENDAR
VERSION:2.0
PRODID:-//Antioch College - ECPv6.15.17.1//NONSGML v1.0//EN
CALSCALE:GREGORIAN
METHOD:PUBLISH
X-ORIGINAL-URL:https://antiochcollege.edu
X-WR-CALDESC:Events for Antioch College
REFRESH-INTERVAL;VALUE=DURATION:PT1H
X-Robots-Tag:noindex
X-PUBLISHED-TTL:PT1H
BEGIN:VTIMEZONE
TZID:America/New_York
BEGIN:DAYLIGHT
TZOFFSETFROM:-0500
TZOFFSETTO:-0400
TZNAME:EDT
DTSTART:20240310T070000
END:DAYLIGHT
BEGIN:STANDARD
TZOFFSETFROM:-0400
TZOFFSETTO:-0500
TZNAME:EST
DTSTART:20241103T060000
END:STANDARD
BEGIN:DAYLIGHT
TZOFFSETFROM:-0500
TZOFFSETTO:-0400
TZNAME:EDT
DTSTART:20250309T070000
END:DAYLIGHT
BEGIN:STANDARD
TZOFFSETFROM:-0400
TZOFFSETTO:-0500
TZNAME:EST
DTSTART:20251102T060000
END:STANDARD
BEGIN:DAYLIGHT
TZOFFSETFROM:-0500
TZOFFSETTO:-0400
TZNAME:EDT
DTSTART:20260308T070000
END:DAYLIGHT
BEGIN:STANDARD
TZOFFSETFROM:-0400
TZOFFSETTO:-0500
TZNAME:EST
DTSTART:20261101T060000
END:STANDARD
END:VTIMEZONE
BEGIN:VEVENT
DTSTART;TZID=America/New_York:20250403T190000
DTEND;TZID=America/New_York:20250403T210000
DTSTAMP:20260421T085422
CREATED:20240808T140023Z
LAST-MODIFIED:20250305T164427Z
UID:50319-1743706800-1743714000@antiochcollege.edu
SUMMARY:YAGODY at the Foundry Theater
DESCRIPTION:Mystical Ukrainian Folk Group \nWith primal percussion\, hypnotic vocal harmonies and immersive ethno-drama performances\, Ukrainian folk group YAGÓDY brings their mesmerizing sound to North America for the first time this spring. \nThe four women of YAGÓDY are on a mission to preserve their culture by both reviving and reinterpreting folk songs while donning traditional clothing and costumes like the ornately embroidered Vyshyvanka. \nSometimes heartbreaking and often rebellious\, YAGÓDY’s music is a testament to the land\, and spirit of the people of Ukraine. They poetically describe their concerts as\, “the songs of wild tribes. This is the voice of your ancestors. This is live energy. It is a dance with voices. This is how our nature smells. This is how our blood sounds.” \nThe self-titled debut album\, YAGÓDY\, released in 2020 introduced the world to their unique sound\, featuring powerful renditions of Ukrainian\, Bulgarian\, and Serbian folk songs. In 2024\, the group won over audiences at the Eurovision Songwriting Contest with their original song “Tsunamia” placing fifth at the national selection finals. \nYAGÓDY has performed at major festivals across Europe\, enchanting listeners in Poland\, Germany\, and beyond and are set to spread their rich history through vibrant concerts across North America. Spring 2025 marks their first North American tour. \nFounded in 2016 by actress and vocalist Zoriana Dybovska\, YAGÓDY emerged as a continuation of her lifelong passion for preserving and evolving Ukrainian music. Having left Donetsk in 2014 due to Russia’s military invasion\, Dybovska settled in Lviv\, where she gathered a group of talented musicians and fellow educators to create a project that would breathe new life into ancient Ukrainian sounds. The group organically adopted their band name when a concert announcer called them “yagody” or “berries” in English. \nWhat began as a small collective of artists searching for their voice has since blossomed into an internationally acclaimed act\, known for their intense\, ritualistic performances and boundary-pushing interpretations of Eastern European folk traditions. \nYAGÓDY is made up of Zoriana Dybovska – vocals\, percussion instruments\, Vasylyna Voloshyn – vocals\, Tetiana Voitiv – vocals\, Tibetan bowl\, percussion instruments\, drymba\, Nadiia Parashchuk – vocals\, accordion\, Vadym Voitovych – bass guitar\, Teimyraz Gogitidze – drums\, Vasyl Parashchuk – cymbals.Support for this project was provided by the Great Lakes Colleges Association through its Global Crossroads Initiative\, made possible by a grant from the Mellon Foundation. \nThanks to the Ohio Arts Council ARTS Rise Program\, which expands representation and access in the arts\, reduced-rate tickets are available for this program. We hope to create a programming series where ticket pricing is not a barrier to attendance.
URL:https://antiochcollege.edu/event/yagody-at-the-foundry-theater/
LOCATION:Foundry Theater\, 920 Corry St\, Yellow Springs\, OH\, 45387\, United States
CATEGORIES:Community & Campus Events,Featured Event,Foundry Theater,Open to the Public
ATTACH;FMTTYPE=image/jpeg:https://antiochcollege.edu/wp-content/uploads/2024/08/new-yagody-scaled.jpg
END:VEVENT
BEGIN:VEVENT
DTSTART;TZID=America/New_York:20250404T180000
DTEND;TZID=America/New_York:20250404T193000
DTSTAMP:20260421T085422
CREATED:20250331T182656Z
LAST-MODIFIED:20250331T182702Z
UID:52785-1743789600-1743795000@antiochcollege.edu
SUMMARY:Rhythm and Release African Diaspora Dance Class at the CSKC
DESCRIPTION:Date: Fridays \nTime: 6:00 PM – 7:30 PM \nJoin us for our weekly African Diaspora dance class\, Rhythm and Release. Our class meets from 6:00 – 7:30 PM on Fridays at the Coretta Scott King Center for Cultural and Intellectual Freedom at Antioch College (781 Livermore Road Yellow Springs\, Ohio 45387) \nLocation:Coretta Scott King Center @ Antioch College781 Livermore St.Yellow Springs\, OH 45387 \nCost:$10 or pay what you can
URL:https://antiochcollege.edu/event/rhythm-and-release-african-diaspora-dance-class-at-the-cskc-14/
LOCATION:Coretta Scott King Center\, 750 Livermore St\, Yellow Springs\, OH\, 45387\, United States
CATEGORIES:Community & Campus Events,Coretta Scott King Center,Featured Event,Open to the Public,Public Programs
ATTACH;FMTTYPE=image/jpeg:https://antiochcollege.edu/wp-content/uploads/2025/03/RhythmandRelease2025Poster.jpg
END:VEVENT
BEGIN:VEVENT
DTSTART;TZID=America/New_York:20250411T180000
DTEND;TZID=America/New_York:20250411T193000
DTSTAMP:20260421T085422
CREATED:20250403T184708Z
LAST-MODIFIED:20250403T184715Z
UID:52895-1744394400-1744399800@antiochcollege.edu
SUMMARY:Rhythm and Release African Diaspora Dance Class at the CSKC
DESCRIPTION:Date: Fridays \nTime: 6:00 PM – 7:30 PM \nJoin us for our weekly African Diaspora dance class\, Rhythm and Release. Our class meets from 6:00 – 7:30 PM on Fridays at the Coretta Scott King Center for Cultural and Intellectual Freedom at Antioch College (781 Livermore Road Yellow Springs\, Ohio 45387) \nLocation:Coretta Scott King Center @ Antioch College781 Livermore St.Yellow Springs\, OH 45387 \nCost:$10 or pay what you can
URL:https://antiochcollege.edu/event/rhythm-and-release-african-diaspora-dance-class-at-the-cskc-15/
LOCATION:Coretta Scott King Center\, 750 Livermore St\, Yellow Springs\, OH\, 45387\, United States
CATEGORIES:Community & Campus Events,Coretta Scott King Center,Featured Event,Open to the Public,Public Programs
ATTACH;FMTTYPE=image/jpeg:https://antiochcollege.edu/wp-content/uploads/2025/03/RhythmandRelease2025Poster.jpg
END:VEVENT
BEGIN:VEVENT
DTSTART;TZID=America/New_York:20250411T191500
DTEND;TZID=America/New_York:20250411T213000
DTSTAMP:20260421T085422
CREATED:20250203T184834Z
LAST-MODIFIED:20250205T174655Z
UID:52030-1744398900-1744407000@antiochcollege.edu
SUMMARY:Olde Wrestling at the Foundry Theater
DESCRIPTION:Get ready to flip your wig\, this wrestling event is HOT to TROT! Olde Wrestling is a vintage event celebrating the theatrics of professional wrestling during Roarin’ 20s. See the greatest wrestlers from across the country participate in action-pack exhibitions. You’ll see: world champions\, wisecracking clowns\, dangerous daredevils\, masked maniacs\, grizzled grapplers & more! \nAn all-ages show\, Olde Wrestling brings a blend of bodyslams and belly laughs to a wide range of audience members. From 9 to 90\, the whole family can enjoy our slam-bang western style of wrestling. Heck\, you may even see Ohioan and former President William Howard Taft deliver a piledriver! \nOlde Wrestling’s first show in Yellow Springs will certainly bring elements of drama\, action\, hilarity and a whole lot of hubbub! We encourage all attendees to dress in your finest roarin’ 20s attire. Fedoras\, suspenders\, flapper dresses and bow ties are all welcome! Live music will accompany the event from Ragtime Rick\, a well-known musician and radio host in Toledo. His ragtime band will be playing the wrestlers to the ring. \nIf you’re new to Olde Wrestling\, please point those peepers and this VIDEO to see what we’re all about. \nWrestlers scheduled to appear: EFFY\, Matt Cross\, Marti Belle\, Marion Fontaine\, Gregory Iron\, Buster Buckaroo\, Erica Leigh\, The Cruncher\, Bruce Grey\, Lord Crewe\, Aaron Williams\, Dustin Rayz\, Benjamin Kimera\, Vincent Nothing & more! \nPresented by: Lucky Bunny Tattoo (115 Glen St.)\, Off The Rope\, Ameripolitan Showcase and Dingbats Design Cave. \nFor more information\, please visit: oldewrestling.com
URL:https://antiochcollege.edu/event/olde-wrestling-at-the-foundry-theater/
LOCATION:Foundry Theater\, 920 Corry St\, Yellow Springs\, OH\, 45387\, United States
CATEGORIES:Community & Campus Events,Featured Event,Foundry Theater,Open to the Public
ATTACH;FMTTYPE=image/jpeg:https://antiochcollege.edu/wp-content/uploads/2025/02/YS_Social_4x5.jpg
END:VEVENT
BEGIN:VEVENT
DTSTART;TZID=America/New_York:20250415T173000
DTEND;TZID=America/New_York:20250415T193000
DTSTAMP:20260421T085422
CREATED:20250415T193408Z
LAST-MODIFIED:20250415T193410Z
UID:52944-1744738200-1744745400@antiochcollege.edu
SUMMARY:Bingo at the Wellness Center
DESCRIPTION:
URL:https://antiochcollege.edu/event/bingo-at-the-wellness-center-2/
LOCATION:Wellness Center\, 240 E South College St\, Yellow Springs\, OH\, 45387\, United States
CATEGORIES:Community & Campus Events,Open to the Public
ATTACH;FMTTYPE=image/jpeg:https://antiochcollege.edu/wp-content/uploads/2025/04/WC-April-2025-Bingo.jpg
END:VEVENT
BEGIN:VEVENT
DTSTART;TZID=America/New_York:20250418T180000
DTEND;TZID=America/New_York:20250418T193000
DTSTAMP:20260421T085422
CREATED:20250403T184802Z
LAST-MODIFIED:20250403T184807Z
UID:52897-1744999200-1745004600@antiochcollege.edu
SUMMARY:Rhythm and Release African Diaspora Dance Class at the CSKC
DESCRIPTION:Date: Fridays \nTime: 6:00 PM – 7:30 PM \nJoin us for our weekly African Diaspora dance class\, Rhythm and Release. Our class meets from 6:00 – 7:30 PM on Fridays at the Coretta Scott King Center for Cultural and Intellectual Freedom at Antioch College (781 Livermore Road Yellow Springs\, Ohio 45387) \nLocation:Coretta Scott King Center @ Antioch College781 Livermore St.Yellow Springs\, OH 45387 \nCost:$10 or pay what you can
URL:https://antiochcollege.edu/event/rhythm-and-release-african-diaspora-dance-class-at-the-cskc-16/
LOCATION:Coretta Scott King Center\, 750 Livermore St\, Yellow Springs\, OH\, 45387\, United States
CATEGORIES:Community & Campus Events,Coretta Scott King Center,Featured Event,Open to the Public,Public Programs
ATTACH;FMTTYPE=image/jpeg:https://antiochcollege.edu/wp-content/uploads/2025/03/RhythmandRelease2025Poster.jpg
END:VEVENT
BEGIN:VEVENT
DTSTART;TZID=America/New_York:20250426T100000
DTEND;TZID=America/New_York:20250427T133000
DTSTAMP:20260421T085422
CREATED:20250312T165210Z
LAST-MODIFIED:20250312T165317Z
UID:52445-1745661600-1745760600@antiochcollege.edu
SUMMARY:Antioch's Admitted Student Weekend
DESCRIPTION:We welcome Antioch College admitted students for a weekend of fun April 26 – April 27!
URL:https://antiochcollege.edu/event/admitted-students-weekend/
LOCATION:Antioch College\, 1 Morgan Pl\, Yellow Springs\, OH\, 45387\, United States
ATTACH;FMTTYPE=image/jpeg:https://antiochcollege.edu/wp-content/uploads/2019/08/Admission-and-Financial-Aid.jpg
ORGANIZER;CN="Office of Admission & Financial Aid":MAILTO:admission@antiochcollege.edu
END:VEVENT
BEGIN:VEVENT
DTSTART;TZID=America/New_York:20250426T190000
DTEND;TZID=America/New_York:20250426T210000
DTSTAMP:20260421T085422
CREATED:20250415T152040Z
LAST-MODIFIED:20250415T152045Z
UID:52922-1745694000-1745701200@antiochcollege.edu
SUMMARY:Mad River Theater Works presents Professor Louie & Friends at the Foundry Theater
DESCRIPTION: \nMad River Theater Works presents\nProfessor Louie & Friends\n\nFREE Event with Cash Donations Accepted at the Door \nGrammy Nominated Professor Louie from Woodstock\, NY has been expanding theborders of the Americana\, Roots & Blues genres with his stories\, keyboard playing\,singing\, accordion and consistently performing. The show repertoire will consist ofsongs from Professor Louie &amp; The Crowmatix 18 Albums and songs Louie learned andhelped create directly with the Rock ‘n’ Roll Hall of Fame group “The Band” when hecollaborated with them for over 16 years. Co-producing &amp; performing on The Band’s lastthree CD’s including their comeback hits Atlantic City\, and Blind Willie McTell alongwith many of their 90’s repertoire and classic Band songs. Rick Danko bass playersinger of The Band gave Louie the moniker “Professor Louie”.\n \n“…a tasty mix of rhythm and blues\, and rock & roll” – Record Review\nProfessor Louie and Miss Marie are touring the USA promoting their 2025 releaseCrowin’ Around\, their 18th recording on The Woodstock Records label by their groupProfessor Louie &amp; The Crowmatix. Crowin’ Around has 11 songs\, seven which arebiographical\, creative original tunes written by Professor Louie & Miss Marie and threewith new interpretations by artists Professor Louie produced: The Band\, CommanderCody\, Graham Parker and one instrumental interpretation by the genius composerMoon Dog. \n \nProfessor Louie also recorded or performed with The Mighty Gospel Giants OfBrooklyn\, Guy Davis\, New Riders of the Purple Sage\, Ireland’s Four Men and a Dog\,Graham Parker\, Commander Cody\, Tony Trischka\, Bill Keith\, Happy & Artie TraumLevon Helm\, Garth Hudson\, Rick Danko.\nMiss Marie: Composer\, vocalist\, keyboardist and percussionist and a member ofProfessor Louie & The Crowmatix\, has appeared and recorded with such noteable actsas The Band\, Mercury Rev\, Levon Helm\, Garth Hudson\, Rick Danko\, Sly and TheFamily Stone\, Guy Davis.\nProfessor Louie & Miss Marie perform in the US\, Canada and Europe collaboratingwith many musicians and groups.
URL:https://antiochcollege.edu/event/mad-river-theater-works-presents-professor-louie-friends-at-the-foundry-theater/
LOCATION:Foundry Theater\, 920 Corry St\, Yellow Springs\, OH\, 45387\, United States
CATEGORIES:Community & Campus Events,Featured Event,Foundry Theater,Open to the Public
ATTACH;FMTTYPE=image/jpeg:https://antiochcollege.edu/wp-content/uploads/2025/04/Prof-Louie-Miss-Marie-1.jpg
END:VEVENT
BEGIN:VEVENT
DTSTART;TZID=America/New_York:20250427T183000
DTEND;TZID=America/New_York:20250427T203000
DTSTAMP:20260421T085422
CREATED:20250415T184637Z
LAST-MODIFIED:20250417T152539Z
UID:52935-1745778600-1745785800@antiochcollege.edu
SUMMARY:Loving is the Key: A Performance Collage about Bayard Rustin and Coretta Scott King at the Foundry Theater
DESCRIPTION:Advance Ticket Registration\n			\n				Make A Donation\n			\n				\n				\n				\n				\n				Antioch College Celebrates Coretta Scott King’s Birthday and 60th Anniversary of Bayard Rustin’s Speech on Campus with a Performance Collage. \nWhen: April 27\, 2025\, 6:30pmWhere: Foundry Theater\, 920 Corry Street\, Yellow Springs\, OH 45387Tickets: By Donation \nAntioch College’s Coretta Scott King Center for Cultural and Intellectual Freedom invites you to a performance collage\, “Loving is the Key: A Performance Collage about Bayard Rustin and Coretta Scott King\,” in celebration of Coretta Scott King’s birthday and the 60th anniversary of Bayard Rustin’s 1965 speech at the college. The performance will take place at the Foundry Theater on  April 27\, 2025  at 6:30 PM in the historic town of Yellow Springs\, Ohio. \nAbout the Performance Collage \n“Loving is the Key: A Performance Collage about Bayard Rustin and Coretta Scott King” was created by Queen Meccasia Zabriskie\, Associate Professor of Sociology and Performance Studies and Director of the Coretta Scott King Center\, and Forest Bright\, Associate Professor of Art and Chair of the Art Division\, at Antioch College. The event\, which is in collaboration with the World House Choir\, will feature singing\, dance\, poetry\, visual art\, and a staged reading of an original play.  \nSet in a rural midwestern community in the aftermath of the vandalism of a public mural\, the play reenacts excerpts from the speech that Bayard Rustin delivered at Antioch College on April 6\, 1965 and Coretta Scott King’s 1982 Antioch College commencement speech in order to glean lessons from their speeches that can facilitate collective healing and positive social transformation. The play also draws on research about Coretta Scott King and Bayard Rustin as well as aspects of Bright and Zabriskie’s lived experience in Yellow Springs\, Ohio\, Sarasota\, Florida\, and Atlanta\, Georgia. The performance concludes with a video collage of individuals in the Yellow Springs and Antioch Communities discussing their understanding of loving practices necessary for social transformation. The idea of a loving practice comes from the work of Black feminist cultural critic and theorist bell hooks in her book “All about Love” and includes actions that resist oppression and domination.  \nThe idea for this collaboration developed out of a conversation between Forest Bright and Antioch College Archivist  Scott Sanders. Sanders was looking at Bayard Rustin’s speech in response to Rustin’s partner\, Walter Nagle\, inquiring about an audio recording of the speech. After realizing that it was the 60th anniversary of Rustin’s speech\, Bright reached out to Kevin Mcgruder\, who plays Rustin in the performance\, Sanders. and Zabriskie to begin planning a commemorative reenactment of the speech. Loving is the Key is the result of subsequent conversations between Zabriskie and Bright\, and it includes an excerpt from the interview that they were able to conduct with Walter Nagle through the help of McGruder. Also in the performance is Gini Meekin\, a senior at Yellow Springs High School; Muhammad Nguer\, a fifth grader at Mills Lawn Elementary School; Dio Smith\, a Sophomore at Antioch College; and Corretta King\, Associate Dean of Admissions at Antioch College.   \nThe community is invited to come to the Foundry theater at 6:30 pm to participate in the creation of  an interactive art piece prior to the start of the performance. There will also be a small reception with desserts from Sugar Witch Magical Treats in celebration of Coretta Scott King’s birthday after the performance. King\, who died on January 30\, 2006\, would have turned 98 on April 27th if she were still alive.  \nFor more information about this project or the work of the Coretta Scott King Center please contact\, please contact:  \nQueen Meccasia ZabriskieAntioch College Coretta Scott King Center DirectorEmail: qzabriskie@antiochcollege.eduPhone: 937-767-1286 Ext. 0093 \n			\n				Advance Ticket Registration\n			\n				Make A Donation
URL:https://antiochcollege.edu/event/loving-is-the-key-a-performance-collage-about-bayard-rustin-and-coretta-scott-king-at-the-foundry-theater/
LOCATION:Foundry Theater\, 920 Corry St\, Yellow Springs\, OH\, 45387\, United States
CATEGORIES:Community & Campus Events,Coretta Scott King Center,Featured Event,Foundry Theater,Open to the Public
ATTACH;FMTTYPE=image/png:https://antiochcollege.edu/wp-content/uploads/2025/04/LovingIsTheKeyEdit.png
END:VEVENT
END:VCALENDAR